Workbook

Sheet (0)封面
A2: 台 灣 自 來 水 股 份 有 限 公 司
A4: 〈 第 10 區 管 理 處 〉
A6: 中 華 民 國 106 年度
A8: 〈自 106 年 1 月 1 日起至 106 年 12 月 31 日止〉
A12: 附 屬 單 位 決 算
B21: 主辦會計人員 | G21: 機關長官

Sheet (0)目次
A1: （O）
A2: 台灣自來水股份有限公司第 10 區管理處
A3: 目 次
A4: 中 華 民 國 106 年 度
I5: 頁次
A6: （一） | B6: 業務計畫及決算概要 | I6: 1
A7: （二） | B7: 損益表 | I7: 7
A8: （三） | B8: 收支科目分析-與本年度預算數比 | I8: 9
A9: （四） | B9: 收支科目分析-與上年度審定決算數比 | I9: 11
A10: （五） | B10: 資產負債表 | I10: 13
A11: （六） | B11: 資產、負債科目分析 | I11: 18
A12: （七） | B12: 財務報表附註 | I12: 19
A13: （八） | B13: 資產折舊明細表 | I13: 20
A14: （九） | B14: 資產變賣明細表 | I14: 21
A15: （十） | B15: 資產報廢明細表 | I15: 22
A16: （十一） | B16: 固定資產建設改良擴充明細表 | I16: 23
A17: （十二） | B17: 資產增減變動表 | I17: 26
... A25: （二十） | B25: 各項費用彙計表-與上年度審定決算數比 | I25: 41

Sheet (一)業務計畫及決算概要1-6
A1: （一）
A2: 台灣自來水股份有限公司第 10 區管理處
A3: 業務計畫及決算概要
A4: 中 華 民 國 106 年 度
A5: 壹、業務範圍及經營政策執行情形
A6: 一、業務範圍概述
A7: 本區處依照本公司之營業章程， 以經營自來水為主要業務，除涵蓋水源開發、建設供水設施，以供應台東縣全縣
A8: 公共給水外，尚需配合政府政策， 提高普及率，視政府編列預算情形，配合改善無自水地區、偏遠地區、原住民
A9: 部落等之飲水問題。
A10: (一)生產水量：由於漏水嚴重，供水量居高不下， 近年來本區處積極謀求改善，除加強檢修漏工作、汰換逾齡管線、
A11: 建置分區計量管網等措施外， 並有效進行水壓管理，穩定水量， 以減少破管漏水， 提升售水率，成效顯著。水
A12: 量生產102 年度與106年度比較，雖成長率為4.90 ％，但遠低於銷售水量 102 年度與106年比較之成長率11.58 ％。
... A24: (五)近五年各項營運資料：
C25: 102年度決算數 | E25: 103年度決算數 | G25: 104年度決算數 | I25: 105年度決算數 | K25: 106年度決算數
C26: 數量 | D26: 環比 | E26: 數量 | F26: 環比 | G26: 數量 | H26: 環比 | I26: 數量 | J26: 環比 | K26: 數量 | L26: 環比
B27: 生產水量(千立方公尺) | C27: 26532.122 | D27: 101.38018 | E27: 26714.611 | F27: 100.6878 | G27: 26552.671 | H27: 99.393815 | I27: 27880.045 | J27: 104.99902 | K27: 27832.32 | L27: =K27/I27*100 -> 99.82882 | P27: 26813171
B28: 銷售水量(千立方公尺) | C28: 16245.766 | D28: 101.70673 | E28: 16843.857 | F28: 103.68152 | G28: 17397.366 | H28: 103.28612 | I28: 18123.782 | J28: 104.17544 | K28: 18127.138 | L28: =K28/I28*100 -> 100.01852 | P28: 16001891
B29: 售 水 率（％） | C29: 0.61230557 | D29: 100.3221 | E29: 0.63051103 | F29: 102.97326 | G29: 0.65520211 | H29: 103.91604 | I29: 0.65006287 | J29: 99.215625 | K29: =K28/K27 -> 0.65129813 | L29: =K29/I29*100 -> 100.19002 | P29: =P28/P27 -> 0.59679219
B30: 單位生產成本(元/立方公尺) | C30: 10.56 | D30: 103.63101 | E30: 10.53 | F30: 99.715909 | G30: 10.17 | H30: 96.581197 | I30: 9.91 | J30: 97.443461 | K30: 10.248264 | L30: =K30/I30*100 -> 103.41336 | P30: 8.82
B31: 單位給水售價(元/立方公尺) | C31: 10.395861 | D31: 100.38158 | E31: 10.425553 | F31: =E31/C31*100 -> 100.28561 | G31: 10.427942 | H31: =G31/E31*100 -> 100.02291 | I31: 10.434427 | J31: =I31/G31*100 -> 100.06219 | K31: 10.45 | L31: =K31/I31*100 -> 100.14925
B32: 盈虧狀況（千元） | C32: -195438.11 | D32: 96.854845 | E32: -170356.56 | F32: 87.166501 | G32: -153459.68 | H32: 90.081462 | I32: -148976.53 | J32: 97.078612 | K32: -157623.5 | L32: =K32/I32*100 -> 105.80425 | P32: -1.4003843e+08
A34: 二、關於執行政府政策者：
A35: (一)配合政府環境政策，本處積極汰換老舊自來水幹管，降低漏水率，以減緩水資源開發壓力：
A36: 1.配合政府政策，辦理各項工程計畫，積極汰換老舊自來水幹管：
A37: 105年度辦理供水設備及管線工程計畫（040A ）汰換及更新老舊管線等實施22件，本年度共投入43,790 千元預
A38: 算，實支數43,790 千元，全數均已執行；辦理淨水設備改善及水量能源控制畫（040B）計 7件，本年度共投入
A39: 10,998 千元預算，計實支數10,998 千元，全數執行。
A40: 2.辦理「102-111 年降低漏水率計畫-汰換管線暨分區計量管網建置計畫」降低漏水率， 以達政策要求：
A41: 本處本年度配合執行辦理「102-111 年降低漏水率計畫-汰換管線暨分區計量管網建置計畫」實施計畫47件，本年
A42: 度預算319,098千元，實支數299,392千元，占可用預算數93.82％，節餘或停止支用數19,706千元， 計畫汰換管線
A43: 長度38,892 公尺。
A44: (二)配合政府照顧偏遠地區居民政策， 本處持續改善無自來水地區供水及原住民地區飲用水 ， 以提高偏遠地區區民
A45: 生活品質：
... A214: 三、其他補充說明：無

Sheet 106損益表
A1: （二）
A2: 台灣自來水股份有限公司第 10 區管理處
A3: 損 益 表
A4: 中 華 民 國 106 年 度
F5: 單位：新臺幣元
A6: 上年度 決算數 | B6: 科 目 | D6: 本年度 決算數 | E6: 本年度 預算數 | F6: 比較增減
B7: 名 稱 | C7: 編號 | F7: 金額 | G7: ％
A8: 218687034 | B8: 營業收入 | C8: 41 | D8: 219638681 | E8: 223869420 | F8: =D8-E8 -> -4230739 | G8: =F8/E8*100 -> -1.8898244
A9: 189111283 | B9: 銷售收入 | C9: 4101 | D9: 189414087 | E9: 192570420 | F9: =D9-E9 -> -3156333 | G9: =F9/E9*100 -> -1.6390539
A10: 189111283 | B10: 給水收入 | C10: 410105 | D10: 189414087 | E10: 192570420 | F10: =D10-E10 -> -3156333 | G10: =F10/E10*100 -> -1.6390539
A11: 20156797 | B11: 勞務收入 | C11: 4102 | D11: 19103095 | E11: 18040000 | F11: =D11-E11 -> 1063095 | G11: =F11/E11*100 -> 5.8929878
A12: 20156797 | B12: 用戶新設給水裝置收入 | C12: 410216 | D12: 19103095 | E12: 18040000 | F12: =D12-E12 -> 1063095 | G12: =F12/E12*100 -> 5.8929878
A13: 9418954 | B13: 其他營業收入 | C13: 4198 | D13: 10998709 | E13: 13259000 | F13: =D13-E13 -> -2260291 | G13: =F13/E13*100 -> -17.047221
A14: 2926322 | B14: 代理收入 | C14: 419803 | D14: 3569455 | E14: 3005000 | F14: =D14-E14 -> 564455 | G14: =F14/E14*100 -> 18.78386
A15: 5709045 | B15: 政府補助收入 | C15: 419804 | D15: 6684963 | E15: 9635000 | F15: =D15-E15 -> -2950037 | G15: =F15/E15*100 -> -30.617924
A16: 783587 | B16: 什項營業收入 | C16: 419898 | D16: 744291 | E16: 619000 | F16: =D16-E16 -> 125291 | G16: =F16/E16*100 -> 20.240872
A17: 0 | B17: 內部損益 | C17: 4199 | D17: 122790 | E17: 0 | F17: =D17-E17 -> 122790 | G17: =F17/E17*100 -> #DIV/0!
A18: 0 | B18: 內部損益 | C18: 419901 | D18: 122790 | E18: 0 | F18: =D18-E18 -> 122790 | G18: =F18/E18*100 -> #DIV/0!
A19: 293700673 | B19: 營業成本 | C19: 51 | D19: 302329590 | E19: 317130479 | F19: =D19-E19 -> -14800889 | G19: =F19/E19*100 -> -4.6671291
... A57: -1.4897653e+08 | B57: 母公司業主: | C57: 690101 | D57: -1.576235e+08 | E57: -170344655 | F57: =D57-E57 -> 12721154 | G57: =F57/E57*100 -> -7.4678916
B61: 104-103
A62: =A8+A37 -> 223179376 | B62: =D62-A62 -> -223179376 | E62: =E8+E37 -> 227713810 | F62: =F8+F37 -> -2149169
A63: =A19+A29+A44 -> 3.721559e+08 | B63: =D63-A63 -> -3.721559e+08 | E63: =E19+E29+E44 -> 398058465 | F63: =F19+F29+F44 -> -14870323
A64: =A62-A63 -> -1.4897653e+08 | B64: =D64-A64 -> 1.4897653e+08 | E64: =E62-E63 -> -170344655 | F64: =F62-F63 -> 12721154
A68: 說明：1.本表應填列至4級科目。
A69: 2.上年度決算數為審定數。
A70: 3.表列百分比（%）應列至百分比之小數點後兩位數。

Sheet (三)收支科目分析-預算比9-10
A1: （三）
A2: 台灣自來水股份有限公司第 10 區管理處
A3: 收支科目分析-與本年度預算數比
A4: 中 華 民 國 106 年 度
G5: 單位：新臺幣元
A6: 會計科目 | B6: 編號 | C6: 本年度 決算數 | D6: 本年度 預算數 | E6: 比較增減 | G6: 增 減 原 因 說 明
E7: 金額 | F7: ％
A8: 收入 | B8: 4
A9: 給水收入 | B9: 410105 | C9: 189414087 | D9: 192570420 | E9: -3156333 | F9: -1.6390539 | G9: 1.基本費收入(41010501)增加145千元，主係用 戶數增加所致。 2.售水收入(41010502)增減少3,301千元，主係 本年度陸客及國內觀光人次大減，用水人數減 少，致無法完成目標預算數。
A10: 用戶新設給水 裝置收入 | B10: 410216 | C10: 19103095 | D10: 18040000 | E10: 1063095 | F10: 5.8929878 | G10: 除本期轉列上年度預收工程款1,497千 元外，另蘭嶼用戶外線補助案676千元12月份入帳，造成差異。
A11: 代理收入 | B11: 419803 | C11: 3569455 | D11: 3005000 | E11: 564455 | F11: 18.78386 | G11: 主係代徵廢棄物處理手續費收入(41980301)增加537千元，造成差異。
A12: 政府補助收入 | B12: 419804 | C12: 6684963 | D12: 9635000 | E12: -2950037 | F12: -30.617924 | G12: 主係離島虧損補助收入(41980403)減少3,060千元，主因預算數編列過高，造成差異。
A13: 什項營業收入 | B13: 419898 | C13: 744291 | D13: 619000 | E13: 125291 | F13: 20.240872 | G13: 主係非政府補助收入(41989801)增加89千元所致，因本項無預算，致造成差異。另接水費收入(41989802)亦增加36千元。
A14: 投資性不動產收入 | B14: 499801 | C14: 1611579 | D14: 1384644 | E14: 226935 | F14: 16.389411 | G14: 投資性房屋租金收入(49980102)增加260千元，主因本年度資產活化出租資產，續約者大多提高租金，使收入增加，造成差異。
A15: 賠償收入 | B15: 499802 | C15: 908759 | D15: 1162000 | E15: -253241 | F15: -21.793546 | G15: 主係本期工程違約罰款案件減少，致造成差異。
A16: 利息收入 | B16: 499804 | C16: 6376 | D16: 9550 | E16: -3174 | F16: -33.235602 | G16: 依資金調度解繳之銀行存款餘額計息。
A17: 租賃收入 | B17: 499806 | C17: 72553 | D17: 89773 | E17: -17220 | F17: -19.181714 | G17: 本項資租賃收入多為本處閒置空間整理給外縣市員工租用之收入，為照顧遠到之新進員工，本項房屋租賃收入(49980602)多次調降，故收入數減少，造成差異。
A18: 什項收入 | B18: 499898 | C18: 3326693 | D18: 1198423 | E18: 2128270 | F18: 177.58922 | G18: 主係其他什項收入(49989806)增加2,093千元，主因本期認列12件代辦工程服務費約2,198千元元轉入其他什項收入，造成差異。
A19: 支出 | B19: 5
A20: 原水費用 | B20: 510114 | C20: 29949508 | D20: 39459803 | E20: -9510295 | F20: -24.101223 | G20: 1.用人費用減少2,024千元，主係離退人 員尚未 補實及新進人員敘薪較低，造成差異。其中職 員薪金(1103)減少1,279千元最多。 2.動力費用（2101）減少2,857千元，除因105年 4月1日起台電調降流動電費費率外，主係台東 今年度雨量充足，使得地面水源豐沛，停抽部 份市區深井，用電量隨之降低。 3.機械及設備修護費（2505）減少3,173千元，主 係水庫及攔河堰維護費(25051305)減少 2,496 千元 ，綠島酬勤水庫蓄水範圍整治工程預算 2,560 千元 尚未完成發包。另監控設備修護費 ( 25051301 ) 減 少320千元，主係本年度風災減少所致。 4.原料（3101）減少451元，本年度無支用本。 5.機械及設備折舊（5301）減少831元。
A21: 淨水費用 | B21: 510115 | C21: 58540743 | D21: 67162072 | E21: -8621329 | F21: -12.836604 | G21: 1.用人費用減少 2,947 千元，主係離退人 員尚未 補實及新進人員敘薪較低，造成差異。其中職 員薪金(1103)減少 420千元，工員工資(1104) 減少1,670千元。
A22: 淨水費用 | B22: 510115 | C22: 58540743 | D22: 67162072 | E22: -8621329 | F22: -12.836604 | G22: 2.動力費用（2101）減少1,167千元，除因105年 4月1日起台電調降流動電費費率外，主係台東 今年度雨量充足，使得地面水源豐沛，停抽部 份市區深井，用電量隨之降低。 3.機械及設備修護費（2505）減少1,471千元，主 係廢水處理設備修護費(25051102)減少667千元 。另各項機械設備修護費( 25051304 ) 減少 518千元，主係本年度風災減少所致。 4.外包費（2709）減少559千元，主係廢水污泥 委託清理費（27091102）實際僅執行 222 千 ，較預算數減少287千元。 5.機械及設備折舊（5301）減少2,688千元。
A23: 供水費用 | B23: 510116 | C23: 196648350 | D23: 194710847 | E23: 1937503 | F23: 0.9950668 | G23: 1.用人費用減少 4,821 千元，主係離退人 員尚未 補實及新進人員敘薪較低，造成差異。其中職 員薪金(1103)減少2,849千元，工員工資(1104) 減少2,721千元。 2.機械及設備修護費（2505）減少1,621千元，除 嚴控預算支用外，主係本年度風災減少所致。 其中各項機械設備修護費(25051304)減少442 千 元，管線修護費( 25053202 ) 減少 278 千元。另 用戶水量計汰換經費( 25050401 )減少390千元 ，主係本年度汰換數減少所致。 3.折舊及攤銷增加9,191千元，主係新成功淨水場 去年加入營運後，使折舊費用大增。其中機械 及設備折舊（5301）增加7,927千元，一般房屋 折舊（5201）減少1,358千元。
A24: 用戶新設給水 裝置成本 | B24: 510216 | C24: 17173857 | D24: 15779726 | E24: 1394131 | F24: 8.8349506 | G24: 主係新裝收入較預算數增5.89％，成本亦隨之增加，其中新裝工程委外經費增加1,427千元，路修費增加837千元，物料增加433千元，用人費用減少1,179千元，主係新進人員敘薪較低。
A25: 業務費用 | B25: 520201 | C25: 34057759 | D25: 38429334 | E25: -4371575 | F25: -11.37562 | G25: 1.用人費用減少 3,475 千元，主係離退人 員尚未 補實及新進人員敘薪較低，造成差異。其中職 員薪金(1103)減少2,167千元，工員工資(1104) 減少346千元。 2.機械及設備修護費(2505)減少113千元，主係 電腦及相關設備修護費(25052301)減少105千元。 3.攤銷電腦軟體(5801)減少517千元。
A26: 優存超額利息 | B26: 599807 | C26: 72168 | D26: 0 | E26: =C26-D26 -> 72168 | F26: #DIV/0! | G26: 依實際發生事項認列，本年度認列72千元，但未編列預算，造成差異。
A27: 資產報廢損失 | B27: 599835 | C27: 11380835 | D27: 7010714 | E27: 4370120.8 | F27: 62.334889 | G27: 主係本年度增加報廢用戶外線一批約400餘萬元，造成差異，差異金額已另案報准併決算辦理。
A28: 什項費用 | B28: 599898 | C28: 2172186 | D28: 2313416 | E28: -141230 | F28: -6.1048251 | G28: 1.分擔退休人員及其配偶暨員工眷屬保險費1802) 減少 95 千元，主係離退人員尚未補實及新進人 員敘薪較低所致。 2.過期帳支出(資)增加358千元，主係退還過年度水 費(91980403)70千元預算均未執行所致。
A29: 說明：1.必分析會計科目：銷售收入、新裝收入、什項收入、原水費用、淨水費用、供水費用、新裝成本
A30: 、什項費用；餘會計科目4級（例如419804 政府補助收入），本年度決算數與預算數比較，增減
A31: 數超過新臺幣100萬元或增減比率超過10％者。
A32: 2.內部損益無需分析。
A33: 3.應儘量詳實敘述增減科目變動之原因，避免過於簡略(不要只說明依…函號或某科目併決算辦理
A34: 、某科目增加或減少所致)。
A35: 4.增減原因說明之文字表達以千元為單位。
A36: 5.收入科目增減原因請至少分析至5級科目(例如499898-06其他什項收入)逐項說明；支出科目增減
A37: 原因請依用人、動力、機修、外包、原料、物料、折舊、利息、資產損失、其他科目(至少分析
A38: 至用途別3級，例如公益支出7205、其他9198 )逐項說明。

Sheet (四)收支科目分析-上年比11-12
A1: （四）
A2: 台灣自來水股份有限公司第 10 區管理處
A3: 收支科目分析-與上年度審定決算數比
A4: 中 華 民 國 106 年 度
G5: 單位：新臺幣元
A6: 會計科目 | B6: 編號 | C6: 本年度 決算數 | D6: 上年度 決算數 | E6: 比較增減 | G6: 增 減 原 因 說 明
E7: 金額 | F7: ％
A8: 收入 | B8: 4
A9: 給水收入 | B9: 410105 | C9: 189414087 | D9: 189111283 | E9: 302804 | F9: 0.16011948 | G9: 1.基本費收入(41010501)增加410千元，主係用戶數增 加所致。 2.售水收入(41010502)減少107千元，主係本年度陸客 及國內觀光人次大減， 用水人數減少，用水量減少 ，造成差異。
A10: 用戶新設給水 裝置收入 | B10: 410216 | C10: 19103095 | D10: 20156797 | E10: -1053702 | F10: -5.227527 | G10: 主係除受景氣波動影響，台東市本年度建案較去年少，致本期案件較上年同期略少外，另上年同期有多件新裝用戶的管線長度較長，致本期收入相對減少。
A11: 代理收入 | B11: 419803 | C11: 3569455 | D11: 2926322 | E11: 643133 | F11: 21.97752 | G11: 主係代徵廢棄物處理手續費收入(41980301)增加640千元。
A12: 政府補助收入 | B12: 419804 | C12: 6684963 | D12: 5709045 | E12: 975918 | F12: 17.094243 | G12: 1.資產性政府補助收入(41980401)增加206千元，主係 本年度代辦工程共12件入財產帳，使遞延收入轉資 產性政府補助收入增加。 2.離島虧損補助收入(41980403)增加769千元。
A13: 什項營業收入 | B13: 419898 | C13: 744291 | D13: 783587 | E13: -39296 | F13: -5.0148867 | G13: 主係接水費收入(41989802)減少62千元。
A14: 賠償收入 | B14: 499802 | C14: 908759 | D14: 706931 | E14: 201828 | F14: 28.549887 | G14: 定作工程罰款收入(49980201)減少244千元，主係本期工程違約罰款案件增加，致造成差異。
A15: 利息收入 | B15: 499804 | C15: 6376 | D15: 7088 | E15: -712 | F15: -10.045147 | G15: 依資金調度解繳之銀行存款餘額計息。
A16: 租賃收入 | B16: 499806 | C16: 72553 | D16: 60562 | E16: 11991 | F16: 19.799544 | G16: 本處新進人員人數增加，整理閒置房舍空間為宿舍供住宿使用，造成收入增加。
A17: 什項收入 | B17: 499898 | C17: 3326693 | D17: 2235008 | E17: 1091685 | F17: 48.844792 | G17: 主因本期認列12件代辦工程服務費約2,198千元轉入其他什項收入(49989806)，造成差異。
A18: 支出 | B18: 5
A19: 原水費用 | B19: 510114 | C19: 29949508 | D19: 35704739 | E19: -5755231 | F19: -16.118956 | G19: 1.用人費用減少439千元，主係離退人員尚未補實及新 進人員敘薪較低，造成差異。 2.動力費用（2101）減少1,103千元，主係台東今年度 雨水充足，使得地面水源豐沛，停抽 部份市區深井 ，用電量隨之降低。 另除成功所因新成功場加入營 運用電增加外，餘各所均減少。 3.機械及設備修護費（2505）減少2,500千元，主係上 年度風災頻繁，使取水口損壞嚴重，而 本年度風災 減少，致構造物設備修護費大幅減少2,454千元，造 成差異。 4.工程及管理諮詢服務費（2804）減少1,464千元，主 係上年度支用酬勤水庫集水區圖資製作 與查證作業 委託服務費867千元，及太麻里系統~新興試探井工 程增加了691千元，本年度則無，造成差異。
A20: 淨水費用 | B20: 510115 | C20: 58540743 | D20: 58724871 | E20: -184128 | F20: -0.31354347 | G20: 1.用人費用增加4,110千元，係卹償金(1603)增加2,950 千元，主係本期支出太麻里所羅成瑞撫恤金295萬元 ，造成差異。另職員薪金(1103)增加962千元。 2.機械及設備修護費（2505）減少510千元，主係監控 設備修護費(25051301)減少240千元及各項機械設備
A21: 淨水費用 | B21: 510115 | C21: 58540743 | D21: 58724871 | E21: -184128 | F21: -0.31354347 | G21: 修護費(25051304) 減少484千元，主係本年度 風災減少所致。 3.委託檢驗試驗費(28072901)減少439千元，主係上年 度成功淨水場的興建，環境監測費用支851千元，本 年度新設成功淨水場後續工程營運期間環境監測費 用支用367千元，造成差異。 4.物料（3102）減少 945千元，主係快慢濾砂無煙煤等 濾料（31021302）減少825千元所致。 5.機械及設備折舊（5301）減少1,567元。
A22: 供水費用 | B22: 510116 | C22: 196648350 | D22: 181750176 | E22: 14898174 | F22: 8.1970617 | G22: 1.機械及設備修護費（2505）減少1,621千元，主係用 戶水量計汰換經費(25050401 )減少2,811千元，主係 本年度汰換數減少所致。 2.機械及設備折舊（5301）增加 17,156元，主係新成 功淨水場及管汰增加等入財產所致。
A23: 用戶新設給水 裝置成本 | B23: 510216 | C23: 17173857 | D23: 17487908 | E23: -314051 | F23: -1.795818 | G23: 1.主係用人費用減少814千元所致。及新裝工程委外經 費增加265千元，本項成本仍減少，造成差異。 2.外包費用（2709）增加141千元，主係原本均自辦新 裝案件的成功所及池上所本年度均有部份新裝案件 委外辦理，造成新裝工程委外經費（27090401）增 加 515 千元。另委託路權單位路修費（27090409） 減少374千元。 3.物料（3102）增加293千元。
A24: 代理費用 | B24: 519803 | C24: 17132 | D24: 32979 | E24: -15847 | F24: -48.051791 | G24: 代理修護案件入帳費用減少，按實際需求支用。
A25: 業務費用 | B25: 520201 | C25: 34057759 | D25: 36404499 | E25: -2346740 | F25: -6.4462912 | G25: 1.用人費用減少2,728千元，主係離退人員尚未補實及 新進人員敘薪較低，造成差異。其中職員薪金 (1103)減1,420千元，工員工資(1104)減少563千元。 2.攤銷電腦軟體(5801)增加559千元，主係本年度認列 委外開發設計應用軟體(16010501 )2,753千元，購買 電腦軟體費(16010502)648千元，致攤銷費用增加。
A26: 管理費用 | B26: 520301 | C26: 31670855 | D26: 30358220 | E26: 1312635 | F26: 4.3238207 | G26: 1.用人費用增加 228千元，其中職員薪金(1103)增加 186千元。 2.一般房屋修護費(2502)增加368千元，主係本年度本 處新進人員人數增加，整理閒置房舍空間為宿舍供 使用，造成費用增加。 3.委託檢驗試驗費(2807)增加 906千元，主係建物安全 設備檢查費(28072401)增加906千元，本年度執行建 物安全設備檢查，上年度則無。
A27: 員工訓練費用 | B27: 529802 | C27: 873338 | D27: 745760 | E27: 127578 | F27: 17.107112 | G27: 主係本年度派訓人員增加所致。
A28: 優存超額利息 | B28: 599807 | C28: 72168 | D28: 0 | E28: 72168 | F28: #DIV/0! | G28: 上年度無發生事項，造成差異。
A29: 資產報廢損失 | B29: 599835 | C29: 11380835 | D29: 7671559.6 | E29: 3709275.2 | F29: 48.350992 | G29: 主係本年度增加報廢用戶外線一批約400餘萬元，造成差異。
A30: 什項費用 | B30: 599898 | C30: 2172186 | D30: 2659361 | E30: -487175 | F30: -18.31925 | G30: 1.主係其他（9195）減少359千元，主係過期帳支出 (資) (91982301)減少358千元，上年同期104總處物 約字第039號-資訊網路整合方案約358千元漏保留所 致，本年度則無。 2.提撥福利金（1804）減少76千元，主係本年度下腳 料未拍售，致無提撥福利金，造成差異。
A31: 說明：1.必分析會計科目：銷售收入、新裝收入、什項收入、原水費用、淨水費用、供水費用、新裝成本
A32: 、什項費用；餘會計科目4級（例如419804政府補助收入），本年度決算數與上年度審定決算數
A33: 比較，增減數超過新臺幣100萬元或增減比率超過10％者。
A34: 2.內部損益無需分析。
A35: 3.應儘量詳實敘述增減科目變動之原因，避免過於簡略(不要只說明依…函號或某科目併決算辦理、
A36: 某科目增加或減少所致)。
A37: 4.增減原因說明之文字表達以千元為單位。
A38: 5.收入科目增減原因請至少分析至5級科目(例如499898-06其他什項收入)逐項說明；支出科目增減
A39: 原因請依用人、動力、機修、外包、原料、物料、折舊、利息、資產損失、其他科目(至少分析至
A40: 用途別3級，例如公益支出7205、其他9198 )等逐項說明。

Sheet 106資產負債表
A1: （五）
A2: 台灣自來水股份有限公司第 10 區管理處
A3: 資 產 負 債 表
A4: 中 華 民 國 106 年 12 月 31 日
E5: 單位：新臺幣元
A6: 科目 | C6: 本年度 決算數 | D6: 上年度 決算數 | E6: 比較增減 | G6: 備註
A7: 名稱 | B7: 編號 | E7: 金額 | F7: %
A8: 資產 | B8: 1 | C8: 4.6528662e+09 | D8: 4.44753e+09 | E8: =C8-D8 -> 2.0533619e+08 | F8: =E8/D8*100 -> 4.6168591
A9: 流動資產 | B9: 11 | C9: 15640008 | D9: 23310386 | E9: =C9-D9 -> -7670378 | F9: =E9/D9*100 -> -32.90541
A10: 現金 | B10: 1101 | C10: 2599939 | D10: 9773897 | E10: =C10-D10 -> -7173958 | F10: =E10/D10*100 -> -73.399157
A11: 銀行存款 | B11: 110102 | C11: 1484691 | D11: 720511.01 | E11: =C11-D11 -> 764180 | F11: =E11/D11*100 -> 106.06084
A12: 支票存款 | B12: 11010201 | C12: -2614271 | D12: -27610174 | E12: =C12-D12 -> 24995903 | F12: =E12/D12*100 -> -90.531494
A13: 活存 | B13: 11010202 | C13: 4098962 | D13: 28330685 | E13: =C13-D13 -> -24231723 | F13: =E13/D13*100 -> -85.531723
A14: 匯撥中現金 | B14: 110103 | C14: 1100248 | D14: 9038386 | E14: =C14-D14 -> -7938138 | F14: =E14/D14*100 -> -87.826942
A15: 總管理處 | B15: 11010300 | C15: 1100248 | D15: 9038386 | E15: =C15-D15 -> -7938138 | F15: =E15/D15*100 -> -87.826942
A16: 零用及週轉金 | B16: 110104 | C16: 15000 | D16: 15000 | E16: =C16-D16 -> 0 | F16: =E16/D16*100 -> 0
A17: 收(退)費零用週轉金 | B17: 11010405 | C17: 15000 | D17: 15000 | E17: =C17-D17 -> 0 | F17: =E17/D17*100 -> 0
A18: 應收款項 | B18: 1105 | C18: 2299905 | D18: 2529143 | E18: =C18-D18 -> -229238 | F18: =E18/D18*100 -> -9.0638608
A19: 應收帳款 | B19: 110504 | C19: 2318700 | D19: 2411770 | E19: =C19-D19 -> -93070 | F19: =E19/D19*100 -> -3.8589915
... A23: 其他 | B23: 11059898 | C23: 0 | D23: 137028 | E23: =C23-D23 -> -137028 | F23: =E23/D23*100 -> -100
A24: 存貨 | B24: 1108 | C24: 6826972.8 | D24: 6629910.8 | E24: =E25+E27 -> 197062 | F24: =E24/D24*100 -> 2.9723175
A25: 物料 | B25: 110817 | C25: 7336186.8 | D25: 6674950.8 | E25: =E26 -> 661236 | F25: =E25/D25*100 -> 9.9062303
A26: 物料 | B26: 11081701 | C26: 7336186.8 | D26: 6674950.8 | E26: =C26-D26 -> 661236 | F26: =E26/D26*100 -> 9.9062303
A27: 備抵存貨跌價 | B27: 110821 | C27: -509214 | D27: -45040 | E27: =C27-D27 -> -464174 | F27: =E27/D27*100 -> 1030.5817
A28: 預付款項 | B28: 1111 | C28: 3913191 | D28: 4377435 | E28: =C28-D28 -> -464244 | F28: =E28/D28*100 -> -10.605389
A29: 用品盤存 | B29: 111102 | C29: 152154 | D29: 176000 | E29: =C29-D29 -> -23846 | F29: =E29/D29*100 -> -13.548864
A30: 文具紙張 | B30: 11110201 | C30: 7192 | D30: 26930 | E30: =C30-D30 -> -19738 | F30: =E30/D30*100 -> -73.293724
A31: 印刷品 | B31: 11110202 | C31: 138543 | D31: 140085 | E31: =C31-D31 -> -1542 | F31: =E31/D31*100 -> -1.1007603
A32: 郵票 | B32: 11110203 | C32: 5083 | D32: 5664 | E32: =C32-D32 -> -581 | F32: =E32/D32*100 -> -10.257768
A33: 電腦用品 | B33: 11110212 | C33: 1336 | D33: 3321 | E33: =C33-D33 -> -1985 | F33: =E33/D33*100 -> -59.771153
A34: 預付費用 | B34: 111103 | C34: 169874 | D34: 76007 | E34: =C34-D34 -> 93867 | F34: =E34/D34*100 -> 123.49784
A35: 預付未報銷費用 | B35: 11110301 | C35: 105173 | D35: 0 | E35: =C35-D35 -> 105173 | F35: =E35/D35*100 -> #DIV/0!
A36: 預付租金 | B36: 11110306 | C36: 64701 | D36: 76007 | E36: =C36-D36 -> -11306 | F36: =E36/D36*100 -> -14.874946
A37: 進項稅額 | B37: 111106 | C37: 3591163 | D37: 4125428 | E37: =C37-D37 -> -534265 | F37: =E37/D37*100 -> -12.950535
... A74: 電腦軟體 | B74: 160105 | C74: 3267260 | D74: 68036 | E74: =C74-D74 -> 3199224 | F74: =E74/D74*100 -> 4702.2517
A75: 委外開發設計應用軟體 | B75: 16010501 | C75: 2293810 | D75: 10871 | E75: =C75-D75 -> 2282939 | F75: =E75/D75*100 -> 21000.267
A76: 購買電腦軟體費 | B76: 16010502 | C76: 973450 | D76: 57165 | E76: =C76-D76 -> 916285 | F76: =E76/D76*100 -> 1602.8776
A77: 其他資產 | B77: 18 | C77: 1007951 | D77: 1546278 | E77: =C77-D77 -> -538327 | F77: =E77/D77*100 -> -34.814374
A78: 遞延資產 | B78: 1802 | C78: 163544 | D78: 200402 | E78: =C78-D78 -> -36858 | F78: =E78/D78*100 -> -18.392032
A79: 其他遞延資產 | B79: 180298 | C79: 163544 | D79: 200402 | E79: =C79-D79 -> -36858 | F79: =E79/D79*100 -> -18.392032
...

Sheet (六)資產負債表科目分析18
A1: （六）
A2: 台灣自來水股份有限公司第 10 區管理處
A3: 資產、負債科目分析
A4: 中 華 民 國 106 年 12 月 31 日
G5: 單位：新臺幣元
A6: 會計科目 | B6: 編號 | C6: 本年度 決算數 | D6: 上年度 決算數 (審定) | E6: 比較增減 | G6: 增 減 原 因 說 明
E7: 金額 | F7: ％
A8: 資產科目
A9: 匯撥中現金 | B9: 110103 | C9: 1100248 | D9: 9038386 | E9: -7938138 | F9: -87.826942 | G9: 資金調度付款所需。
A10: 未完工程 | B10: 140801 | C10: 307434918 | D10: 252468727 | E10: =C10-D10 -> 54966191 | F10: =E10/D10*100 -> 21.771485 | G10: 主係本年度工程執行所致。
A11: 電腦軟體 | B11: 160105 | C11: 3267260 | D11: 68036 | E11: 3199224 | F11: 4702.2517 | G11: 主係WR05100103十區監鞚整合及介接接採購監總處系統採購案於本年度2月份入帳所致。其中委外開發設計應用軟體(16010501)入帳2,753千元，購買電腦軟體費(16010502)入帳648千元，造成差異。
A12: 負債科目
A13: 應付代收款 | B13: 210503 | C13: 21479399 | D13: 33390856 | E13: -11911457 | F13: -35.672811 | G13: 主係本年度代辦工程案件減少，且匯入之代辦工程款亦減少，致代辦計畫收入(21050327)減少11,790千元，造成差異。
A14: 應付工程款 | B14: 210507 | C14: 20368434 | D14: 32209530 | E14: -11841096 | F14: -36.76271 | G14: 主係本年度工程未及付款提列應付未付數金額案件較上年度減少所致。
A15: 預收收入 | B15: 210803 | C15: 1844825 | D15: 3189949 | E15: -1345124 | F15: -42.167571 | G15: 本年度轉列預收新裝收入(21080302)減少1,555千元，致造成差異。
A16: 遞延收入 | B16: 280201 | C16: 1.1777879e+08 | D16: 1.0522846e+08 | E16: 12550325 | F16: 11.92674 | G16: 主係本年度增加8件代辦工程入財產，金額16,294千元，致造成差異。
A20: 說明：1.必分析會計科目：資產及負債會計科目4級(例如110102銀行存款)，本年度決算數與上年度
A21: 審定數比較，增減數超過100萬元且增減比率超過10％元者。※內部往來會計科目不必分析
A22: 2.應儘量詳實敘述造成增減科目變動之原因，避免過於簡略(不要只說明依…函號或某科目併
A23: 決算辦理、某科目增加或減少所致)。
A24: 3.增減原因說明之文字表達以千元為單位。

Sheet (七)財務附註19
A1: （七）
A2: 台灣自來水股份有限公司第 10 區管理處
A3: 財務報表附註
A4: 中 華 民 國 106 年 度
A5: (一)重大之承諾事項：無。
A6: (二)重要契約之簽訂、完成、撤銷或失效：無。
A7: (三)重要訴訟案件之進行或終結：無。
A8: (四)負債準備、或有資產、或有負債及報導期間後事項之揭露：無。
A9: (五)重大災害損失：無。
A10: (六)債權人對於特定資產之權利：無。
A11: (七)有關權益之重大事項：無。
A12: (八)因政府法令變更而發生之重大影響：無。
A13: (九)其他為避免報表使用者之誤解、或有助於財務報表之公允表達及 有關成本中心之攸關事項所必須說明者：無。

Sheet (八)資產折舊明細表20
A1: （五）
A2: 台灣自來水股份有限公司第 10 區管理處
A3: 資 產 折 舊 明 細 表
B4: 中 華 民 國 106 年 度 | J4: 單位：新臺幣元
A5: 項目 | B5: 不動產、廠房及設備 | I5: 投資性 不動產 | J5: 其他 | K5: 合計
B6: 土地 改良物 | C6: 房屋 及建築 | D6: 機械 及設備 | E6: 交通及 運輸設備 | F6: 什項 設備 | G6: 租賃 資產 | H6: 租賃權益改良
A7: 帳面金額 | B7: 1.5046434e+08 | C7: 2.7494491e+08 | D7: 5.5481653e+09 | E7: 44831038 | F7: 21752933 | I7: 17676278 | K7: =SUM(B7:J7) -> 6.0578348e+09
A8: 重估增值 | C8: 1387580.2 | D8: 13983070 | I8: 1888835
A9: 原值 | B9: =B7+B8 -> 1.5046434e+08 | C9: =C7+C8 -> 2.7633249e+08 | D9: =D7+D8 -> 5.5621484e+09 | E9: =E7+E8 -> 44831038 | F9: =F7+F8 -> 21752933 | G9: =G7+G8 -> 0 | H9: =H7+H8 -> 0 | I9: =I7+I8 -> 19565113 | ... K9: =K7+K8 -> 6.0578348e+09
A10: 減：以前年度已提折舊 | B10: 88734071 | C10: 65781253 | D10: 1.8926702e+09 | E10: 29719069 | F10: 10734966 | G10: 0 | H10: 0 | I10: 11300767 | J10: 0 | K10: 2.0321993e+09
A11: 減：累計減損 | B11: 1509023.2 | C11: 602717.11 | D11: 7297192.6 | E11: 0 | F11: 0 | I11: 0 | K11: =SUM(B11:J11) -> 9408932.9
A12: 上年度期末帳面價值 | B12: =B9-B10-B11 -> 60221250 | C12: =C9-C10-C11 -> 2.0994852e+08 | D12: =D9-D10-D11 -> 3.662181e+09 | E12: =E9-E10-E11 -> 15111969 | F12: =F9-F10-F11 -> 11017967 | G12: =G7-G10-G11 -> 0 | H12: =H7-H10-H11 -> 0 | I12: =I9-I10-I11 -> 8264345.5 | J12: =J7-J10-J11 -> 0 | K12: =SUM(B12:J12) -> 3.966745e+09
A13: 加：本年度新增資產價值 | B13: =SUM(B14:B17) -> 0 | C13: =SUM(C14:C17) -> 0 | D13: =SUM(D14:D17) -> 144843923 | E13: =SUM(E14:E17) -> 1060762 | F13: =SUM(F14:F17) -> 144476 | G13: =SUM(G14:G17) -> 0 | H13: =SUM(H14:H17) -> 0 | I13: =SUM(I14:I17) -> 0 | J13: =SUM(J14:J17) -> 0 | K13: =SUM(B13:J13) -> 146049161
A14: 增置 | B14: 0 | C14: 0 | D14: ='(十一)固定資產改良擴充表23-25'!C19 -> 128549917 | E14: ='(十一)固定資產改良擴充表23-25'!C22 -> 1060762 | F14: ='(十一)固定資產改良擴充表23-25'!C25 -> 144476 | I14: 0 | K14: =SUM(B14:J14) -> 129755155
A15: 重估 | B15: 0 | C15: 0 | I15: 0 | K15: =SUM(B15:J15) -> 0 | L15: 3.5962374e+09
A16: 受贈 | B16: 0 | C16: 0 | D16: 16294006 | E16: 0 | F16: 0 | I16: 0 | K16: =SUM(B16:J16) -> 16294006
A17: 撥入 | B17: 0 | C17: 0 | D17: 0 | E17: 0 | F17: 0 | I17: 0 | K17: =SUM(B17:J17) -> 0
A18: 減：本年度減少資產價值 | B18: =SUM(B19:B21) -> 0 | C18: =SUM(C19:C21) -> 51667.44 | D18: =SUM(D19:D21) -> 11374580 | E18: =SUM(E19:E21) -> 42107 | F18: =SUM(F19:F21) -> 12818 | G18: =SUM(G19:G21) -> 0 | H18: =SUM(H19:H21) -> 0 | I18: =SUM(I19:I21) -> 0 | J18: =SUM(J19:J21) -> 0 | K18: =SUM(B18:J18) -> 11481173
A19: 變賣 | B19: 0 | K19: =SUM(B19:J19) -> 0
A20: 報廢 | B20: 0 | C20: ='（十二）資產增減變動表26-31'!W16 -> 51667.44 | D20: ='（十二）資產增減變動表26-31'!W21 -> 11283862 | E20: ='（十二）資產增減變動表26-31'!W26 -> 42107 | F20: ='（十二）資產增減變動表26-31'!W29 -> 12818 | I20: 0 | K20: =SUM(B20:J20) -> 11390455
A21: 撥出及遺失 | B21: 0 | C21: 0 | D21: 90718 | E21: 0 | F21: 0 | I21: 0 | K21: =SUM(B21:J21) -> 90718
A22: 加：調整數 | B22: 0 | C22: 1772739 | D22: 1.8013379e+08 | E22: 0 | F22: 267494 | I22: 0 | K22: =SUM(B22:J22) -> 1.8217402e+08
A23: 減：本年度提列折舊數 | B23: 3328083 | C23: 6120923 | D23: 150597234 | E23: 2923393 | F23: 1637657 | G23: =SUM(G26:G33) -> 0 | H23: =SUM(H26:H33) -> 0 | I23: 425856 | J23: =SUM(J26:J33) -> 0 | K23: =SUM(B23:J23) -> 165033146
A24: 本年度期末帳面價值 | B24: =B12+B13-B18+B22-B23 -> 56893167 | C24: =C12+C13-C18+C22-C23 -> 2.0554867e+08 | D24: =D12+D13-D18+D22-D23 -> 3.8251869e+09 | E24: =E12+E13-E18+E22-E23 -> 13207231 | F24: =F12+F13-F18+F22-F23 -> 9779462 | G24: =G12+G13-G18+G22-G23 -> 0 | H24: =H12+H13-H18+H22-H23 -> 0 | I24: =I12+I13-I18+I22-I23 -> 7838489.5 | J24: =J12+J13-J18+J22-J23 -> 0 | K24: =SUM(B24:J24) -> 4.1184539e+09
A25: 本年度提列折舊數
A26: 原水費用 | B26: 253597 | C26: 15457 | D26: 5303458 | E26: 0 | F26: 0 | I26: 0 | K26: =SUM(B26:J26) -> 5572512
A27: 淨水費用 | B27: 1457688 | C27: 1261219 | D27: 16831004 | E27: 16856 | F27: 460188 | I27: 0 | K27: =SUM(B27:J27) -> 20026955
A28: 供水費用 | B28: 1427524 | C28: 1510284 | D28: 125174493 | E28: 2552700 | F28: 333946 | I28: 0 | K28: =SUM(B28:J28) -> 130998947
A29: 用戶新設給水裝置成本 | B29: 0 | C29: 0 | D29: 41028 | E29: 0 | F29: 0 | I29: 0 | K29: =SUM(B29:J29) -> 41028
A30: 業務費用 | B30: 45638 | C30: 750649 | D30: 308259 | E30: 16316 | F30: 14321 | I30: 0 | K30: =SUM(B30:J30) -> 1135183
A31: 管理費用 | B31: 143636 | C31: 2509452 | D31: 2938992 | E31: 337521 | F31: 829202 | I31: 0 | K31: =SUM(B31:J31) -> 6758803
A32: 投資性不動產費用 | B32: 0 | C32: 0 | D32: 0 | E32: 0 | F32: 0 | I32: 425856 | K32: =SUM(B32:J32) -> 425856
A33: 租賃費用 | B33: 0 | C33: 73862 | D33: 0 | E33: 0 | F33: 0 | I33: 0 | K33: =SUM(B33:J33) -> 73862
A34: 合 計 | B34: =SUM(B26:B33) -> 3328083 | C34: =SUM(C26:C33) -> 6120923 | D34: =SUM(D26:D33) -> 150597234 | E34: =SUM(E26:E33) -> 2923393 | F34: =SUM(F26:F33) -> 1637657 | G34: =SUM(G26:G33) -> 0 | H34: =SUM(H26:H33) -> 0 | I34: =SUM(I26:I33) -> 425856 | J34: =SUM(J26:J33) -> 0 | K34: =SUM(B34:J34) -> 165033146
A35: 說明： 1.原值，係指以前年度資產成本及重估增值。 2.本年度新增資產價值，係指資產之增置、重估增值、撥入及受贈等資產價值。 3.本年度減少資產價值，係指報廢、變賣、撥出及遺失等資產之帳面價值，前述帳面價值已扣除累計減損之金額。 4.調整數，包括本年度調整以前年度溢（短）計資產折舊數、購建中固定資產完工轉正財產數、建造中之投資性不動產轉正財產數、資產之減損調整數、其他資產轉列財產數、財產列帳錯誤之調整等，請各事業備妥調整事項詳細資料，俾便查核。 5.以前年度已提折舊及減損數暨本年度期末帳面價值，其中如有涉及減損金額者，應於表下分別附註說明各類資產上年度及本年度累計減損之金額。 6.表列本年度提列折舊數，原則應與各項費用彙計表所列折舊費用相符，如有無法勾稽之處，應加以說明。 7.表列「其他」欄，係指生物資產及代管資產等資訊。
A37: 說明： 1、上（104）年度各類資產累計減損金額如后：土地改良物累計減損金額1,509,023.20元、房屋及建築累計減損金額 602,717.11元、機械及設備累計減損金額7,297,192.59元。 2、本（105）年度各類資產累計減損金額如后：土地改良物累計減損金額1,509,023.20元、房屋及建築累計減損金額 602,717.11元、機械及設備累計減損金額7,297,192.59元。

Sheet (九)資產變賣明細表21
A1: 台灣自來水股份有限公司第 10 區管理處
A2: 資 產 變 賣 明 細 表
A3: 中 華 民 國 106 年 度
A4: 科目 | C4: 決 算 數 | K4: 變賣盈虧預算數 | L4: 比較增減
C5: 帳面價值 | G5: 變 賣收入 | J5: 變賣盈虧（8）= （7）-（4)
A6: 名稱 | B6: 編 號 | C6: 成本或 重估價值 （1） | D6: 已提折舊額 （2） | E6: 減損調整數（3） | F6: 淨額（4）=（1）-（2）-（3） | G6: 總收入 (5) | H6: 處理費用 (6) | I6: 淨收入（7）= （5）-（6） | L6: 金額 | M6: ％
A7: 不動產、廠房及設備
A8: 土地 | C8: 本年度無發生事項。
A9: 土地改良物
A10: 房屋及建築
A11: 機械及設備
A12: 交通及運輸設備
A13: 什項設備
A15: 投資性不動產
A17: 待出售非流動資產 | C17: 0 | F17: =C17-D17-E17 -> 0 | G17: 0 | I17: 0 | J17: =I17-F17 -> 0 | K17: 0 | L17: =J17-K17 -> 0
A23: 總 計 | C23: 77397 | D23: 0 | E23: 0 | F23: 77397 | G23: 266180 | I23: 266180 | J23: 188783 | K23: 0 | L23: 188783 | M23: 100
A24: 說明：1.本表表內僅表達「不動產、廠房及設備」、「投資性不動產」及「待出售非流動資產」
A25: ，其餘項目（ 含生物及無形資產 ）請於表下方備註說明。
A26: 2.有關有償撥用資產之處分，仍應列入本表表達。

Sheet (十)資產報廢明細表22
A1: （十）
A2: 台灣自來水股份有限公司第 10 區管理處
A3: 資 產 報 廢 明 細 表
C4: 中 華 民 國 106 年 度 | J4: 單位：新臺幣元
A5: 科目 | C5: 決算數 | I5: 報廢損失 預 算 數 | J5: 比較增減(一) | L5: 備註
A6: 名稱 | B6: 編號 | C6: 帳面價值 | G6: 殘餘價值 (5) | H6: 報廢損失 (6)= (4)-(5) | J6: 金額 | K6: %
C7: 成本或 重估價值 (1) | D7: 已提折舊額 (2) | E7: 減損 調整數 (3) | F7: 淨額 (4)= (1)-(2)-(3)
A8: 不動產、廠房及設備 | C8: =C9+C10+C11+C12+C13+C14+C15+C16 -> 69032787 | D8: =D9+D10+D11+D12+D13+D14+D15+D16 -> 57642333 | E8: =E9+E10+E11+E12+E13+E14+E15+E16 -> 0 | F8: =F9+F10+F11+F12+F13+F14+F15+F16 -> 11390455 | G8: =G9+G10+G11+G12+G13+G14+G15+G16 -> 9620 | H8: =H9+H10+H11+H12+H13+H14+H15+H16 -> 11380835 | I8: =I9+I10+I11+I12+I13+I14+I15+I16 -> 7010714 | J8: =H8-I8 -> 4370120.8 | K8: =J8/I8*100 -> 62.334889
A9: 土地改良物 | B9: 946010 | C9: 0 | D9: 0 | F9: 0 | G9: 0 | I9: 7000 | J9: =H9-I9 -> -7000 | K9: =J9/I9*100 -> -100
A10: 房屋及建築 | B10: 946020 | C10: ='（十二）資產增減變動表26-31'!W17+'（十二）資產增減變動表26-31'!W18 -> 439523.42 | D10: =-'（十二）資產增減變動表26-31'!W19 -> 387855.98 | F10: =C10-D10 -> 51667.44 | G10: -51000 | H10: =F10-G10 -> 102667.44 | I10: 90652 | J10: =H10-I10 -> 12015.44 | K10: =J10/I10*100 -> 13.254468 | L10: 拆除費用51,000元
A11: 機械及設備 | B11: 946030 | C11: ='（十二）資產增減變動表26-31'!W22+'（十二）資產增減變動表26-31'!W23 -> 66895860 | D11: =-'（十二）資產增減變動表26-31'!W24 -> 55611998 | F11: =C11-D11 -> 11283862 | G11: 41299 | H11: =F11-G11 -> 11242563 | I11: 6884000 | J11: =H11-I11 -> 4358563.3 | K11: =J11/I11*100 -> 63.314401
A12: 交通及運輸設備 | B12: 946040 | C12: ='（十二）資產增減變動表26-31'!W27 -> 1496547 | D12: =-'（十二）資產增減變動表26-31'!W28 -> 1454440 | F12: =C12-D12 -> 42107 | G12: 19045 | H12: =F12-G12 -> 23062 | I12: 23062 | J12: =H12-I12 -> 0 | K12: =J12/I12*100 -> 0
A13: 什項設備 | B13: 946050 | C13: ='（十二）資產增減變動表26-31'!W30 -> 200857 | D13: =-'（十二）資產增減變動表26-31'!W31 -> 188039 | F13: =C13-D13 -> 12818 | G13: 276 | H13: =F13-G13 -> 12542 | I13: 6000 | J13: =H13-I13 -> 6542 | K13: =J13/I13*100 -> 109.03333
A14: 租賃權益改良 | H14: =F14-G14 -> 0 | J14: =H14-I14 -> 0
A15: 投資性不動產 | H15: =F15-G15 -> 0 | J15: =H15-I15 -> 0
A16: 待出售非流動資產 | H16: =F16-G16 -> 0 | J16: =H16-I16 -> 0
A20: １０６．０３．３１台水財字第１０６０００９０６５號函核准。
A21: １０６．０６．２８台水財字第１０６００１９３６０號函核准。
A22: １０６．０７．０７台水財字第１０６００２０３００號函核准。
A23: １０６．０９．２６台水財字第１０６００２９７６３號函核准。
A24: １０６．１２．２８台水財字第１０６００４０１８１號函核准。
A25: １０６。０９。１９台水供字第１０６００２８１７２號函示建物拆除費用51,000元列資產報廢損失費用。
A26: (註：本件拆除費用係拆除水母淨水場操作室樓上搭建之報廢鐵皮屋費用，金額51,000千元。)
A36: 合計 | C36: =SUM(C9:C35) -> 69032787 | D36: =SUM(D9:D35) -> 57642333 | F36: =SUM(F9:F35) -> 11390455 | G36: =SUM(G9:G35) -> 9620 | H36: =SUM(H9:H13) -> 11380835 | I36: =SUM(I9:I35) -> 7010714 | J36: =H36-I36 -> 4370120.8 | K36: =J36/I36*100 -> 62.334889
A37: 說明：資產報廢科目如非屬表內所列科目（其餘項目含生物及無形資產）者，應備註說明其科目名稱及金額。

Sheet (十一)固定資產改良擴充表23-25
A1: （十一）
A2: 台灣自來水股份有限公司第 10 區管理處
A3: 固定資產建設改良擴充明細表
A4: 中 華 民 國 106 年 度 | J4: 單位：新臺幣元
A5: 項目 | C5: 決算數 | D5: 可用預算數 | I5: 比較增減 | J5: 本年度 保留數
A6: 名稱 | B6: 編號 | D6: 以前年度 保留數 | E6: 本年度預算數 | F6: 本年度奉准先行辦理數 | G6: 調整數 | H6: 合計
A7: 不動產、廠房及設備
A8: 依計畫別再分六大類
A9: 土地 | C9: =C10+C11 -> 3059517 | J9: =J10+J11 -> 0
A10: A 土地 | C10: =C31 -> 0 | J10: =J31 -> 0
A11: B 購建中固定資產 | C11: =C32 -> 3059517 | J11: =J32 -> 0
A12: 土地改良物 | C12: =C13+C14 -> 0 | J12: =J13+J14 -> 0
A13: A 土地改良物 | C13: =C34 -> 0 | J13: =J34 -> 0
A14: B 購建中固定資產 | C14: =C35 -> 0 | J14: =J35 -> 0
A15: 房屋及建築 | C15: =C16+C17 -> 0 | J15: =J16+J17 -> 0
A16: A 房屋及建築 | C16: =C37 -> 0 | J16: =J37 -> 0
A17: B 購建中固定資產 | C17: =C38 -> 0 | J17: =J38 -> 0
A18: 機械及設備 | C18: =C19+C20 -> 365254365 | J18: =J19+J20 -> 14514171
A19: A 機械及設備 | C19: =C40+C52+C56+C60+C64+C68 -> 128549917 | J19: =J40+J68 -> 0 | N19: 27142295
A20: B 購建中固定資產 | C20: =C41+C53+C57+C61+C65+C69 -> 236704448 | J20: =J41+J53+J57+J61+J65+J69 -> 14514171 | N20: =N19-N33 -> 1602360
A21: 交通及運輸設備 | C21: =C22+C23 -> 1060762 | J21: =J22+J23 -> 0
A22: A 交通及運輸設備 | C22: =C43 -> 1060762 | J22: =J43+J73 -> 0
A23: B 購建中固定資產 | C23: =C44 -> 0 | J23: =J44+J74 -> 0
A24: 什項設備 | C24: =C25+C26 -> 580244 | J24: =J25+J26 -> #REF!
A25: A 其他設備 | C25: =C46 -> 144476 | J25: =J46+J76 -> 0
A26: B 購建中固定資產 | C26: =C47 -> 435768 | J26: =J47+#REF! -> #REF!
A27: 投資性不動產 | C27: 0 | J27: 0
A28: 總合計（請看決算書） | C28: =C48+C70 -> 369954888 | J28: =J9+J12+J15+J18+J21+J24 -> #REF!
A29: 一般建築及設備計畫 | L29: 獨三︰10(103) | M29: 獨三︰10(104) | N29: 獨三︰30(103) | O29: 獨三︰30(104) | P29: 其它(撥入140801) | Q29: 其它已入財產 | R29: 104年入財產金額
A30: 土 地 | C30: =C31+C32 -> 3059517 | J30: =J31+J32 -> 0 | M30: 0
A31: A 土地 | C31: 0 | J31: 0 | L31: 336458 | M31: 4000000 | N31: 336458 | O31: 2517484
A32: B 購建中固定資產 | C32: 3059517 | J32: 0 | L32: 2630738 | M32: 225194 | N32: 2630738 | O32: 225194
A33: 土地改良物 | C33: =C34+C35 -> 0 | J33: =J34+J35 -> 0 | L33: 26962635 | M33: 100278844 | N33: 25539935 | O33: 56585788 | P33: 2864950 | Q33: 1739209 | R33: =O33-Q33 -> 54846579
A34: A 土地改良物 | C34: 0 | J34: 0 | L34: 27142295 | M34: 2015605 | O34: 2015605
A35: B 購建中固定資產 | C35: 0 | J35: 0 | L35: =L34-L33 -> 179660 | M35: 252597 | N35: =L34-N33 -> 1602360 | O35: 252597
A36: 房屋及建築 | C36: =C37+C38 -> 0 | J36: =J37+J38 -> 0 | P36: 1125741
A37: A 房屋及建築 | C37: 0 | J37: 0 | N37: =N33+O33 -> 82125723 | O37: 82125723 | P37: 1602360
A38: B 購建中固定資產 | C38: 0 | J38: 0 | L38: =M33-R33 -> 45432265 | M38: =L38-N35 -> 43829905 | P38: =L39-P36-P37 -> 45432265
A39: 機械及設備 | C39: =C40+C41 -> 58822857 | J39: =J40+J41 -> 0 | L39: 48160366
A40: A 機械及設備 | C40: 29133302 | J40: 0 | L40: =L38-L39 -> -2728101
...

Sheet （十二）資產增減變動表26-31
A1: （十二）
A2: 台灣自來水股份有限公司第 10 區管理處 | S2: 台灣自來水股份有限公司第 10 區管理處
A3: 資 產 增 減 變 動 表 | S3: 資 產 增 減 變 動 表
A4: 中華民國 106 年度 | S4: 中華民國 106 年度
Q5: 單位：新臺幣元 | AJ5: 單位：新臺幣元
A6: 會計科目 | B6: 上年度期末金額 | C6: 增 加 資 產 | S6: 減 少 資 產 | AK6: 本年度期末金額
C7: 建設改良 及擴充 | D7: 捐贈 | E7: 股東增加投資 | F7: 重估增值 | G7: 以前年度錯誤轉收入 | H7: 以前年度建設改良擴充累計數減少 | I7: 資產或負債科目轉入 | J7: 資產減損迴轉利益 | K7: 未完工程 轉財產 | L7: 待出售非流動資產與固定資產間調整科目 | M7: 不動產廠房及設備調整科目 | N7: 區處間未完工程轉帳 | O7: 區處間財產調撥 | P7: 投資性不動產調整科目 | Q7: 不動產、廠房及設備與投資性不動產間調整科目 | R7: 合計 | S7: 折舊 | T7: 損出 | U7: 股東減列投資 | V7: 變賣 | W7: 報廢 | X7: 以前年度錯誤轉支出 | Y7: 災害損失 | Z7: 轉列資產或負債科目 | AA7: 被竊或遺失 | AB7: 資產減損 | AC7: 未完工程 轉財產 | AD7: 待出售非流動資產與固定資產間調整科目 | AE7: 不動產廠房及設備調整科目 | AF7: 區處間未完工程轉帳 | AG7: 區處間財產調撥 | AH7: 投資性不動產調整科目 | AI7: 不動產、廠房及設備與投資性不動產間調整科目 | AJ7: 合計
A8: 不動產、廠房及設備 | B8: 4.3925886e+09 | C8: 369954888 | D8: 16294006 | K8: 315995464 | M8: 316732 | N8: 1222200 | R8: =SUM(C8:Q8) -> 703783290 | S8: 164607290 | W8: 11390455 | AC8: 315995464 | AE8: 316732 | AF8: 611100 | AG8: 90718 | AJ8: =SUM(S8:AI8) -> 4.9301176e+08 | AK8: =B8+R8-AJ8 -> 4.6033602e+09
A9: 土地 | B9: 181639217 | K9: =K10 -> 3059517 | R9: =SUM(C9:Q9) -> 3059517 | AJ9: =SUM(S9:AI9) -> 0 | AK9: =B9+R9-AJ9 -> 184698734
A10: 土地 | B10: 1.095967e+08 | K10: 3059517 | R10: =SUM(C10:Q10) -> 3059517 | AJ10: =SUM(S10:AI10) -> 0 | AK10: =B10+R10-AJ10 -> 1.1265621e+08 | AM10: 1.095967e+08 | AN10: =AM10-AK10 -> -3059517
A11: 重估增值－土地 | B11: 72042520 | R11: =SUM(C11:Q11) -> 0 | AJ11: =SUM(S11:AI11) -> 0 | AK11: =B11+R11-AJ11 -> 72042520 | AM11: 72042520 | AN11: =AM11-AK11 -> 0
A12: 土地改良物 | B12: 60221250 | R12: =SUM(C12:Q12) -> 0 | S12: 3328083 | AJ12: =SUM(S12:AI12) -> 3328083 | AK12: =B12+R12-AJ12 -> 56893167 | AM12: 47701372 | AN12: =AM12-AK12 -> -9191795
A13: 土地改良物 | B13: 1.5046434e+08 | R13: =SUM(C13:Q13) -> 0 | AJ13: =SUM(S13:AI13) -> 0 | AK13: =B13+R13-AJ13 -> 1.5046434e+08 | AM13: 1.3529174e+08 | AN13: =AM13-AK13 -> -15172605
A14: 累計折舊－土地改良物 | B14: -88734071 | R14: =SUM(C14:Q14) -> 0 | S14: 3328083 | AJ14: =SUM(S14:AI14) -> 3328083 | AK14: =B14+R14-AJ14 -> -92062154 | AM14: -86081344 | AN14: =AM14-AK14 -> 5980810
A15: 累計減損－土地改良物 | B15: -1509023.2 | R15: =SUM(C15:Q15) -> 0 | AJ15: =SUM(S15:AI15) -> 0 | AK15: =B15+R15-AJ15 -> -1509023.2 | AM15: -1509023.2 | AN15: =AM15-AK15 -> 0
A16: 房屋及建築 | B16: 2.0994852e+08 | K16: 1772739 | R16: =SUM(C16:Q16) -> 1772739 | S16: 6120923 | W16: 51667.44 | AJ16: =SUM(S16:AI16) -> 6172590.4 | AK16: =B16+R16-AJ16 -> 2.0554867e+08 | AM16: 1.6827733e+08 | AN16: =AM16-AK16 -> -37271341
A17: 房屋及建築 | B17: 2.7494491e+08 | K17: 1772739 | R17: =SUM(C17:Q17) -> 1772739 | W17: 432152.5 | AJ17: =SUM(S17:AI17) -> 432152.5 | AK17: =B17+R17-AJ17 -> 2.762855e+08 | AM17: 2.2853151e+08 | AN17: =AM17-AK17 -> -47753988
A18: 重估增值－房屋及建築 | B18: 1387580.2 | R18: =SUM(C18:Q18) -> 0 | W18: 7370.92 | AJ18: =SUM(S18:AI18) -> 7370.92 | AK18: =B18+R18-AJ18 -> 1380209.3 | AM18: 1387580.2 | AN18: =AM18-AK18 -> 7370.92
A19: 累計折舊－房屋及建築 | B19: -65781253 | R19: =SUM(C19:Q19) -> 0 | S19: 6120923 | W19: -387855.98 | AJ19: =SUM(S19:AI19) -> 5733067 | AK19: =B19+R19-AJ19 -> -71514320 | AM19: -61039043 | AN19: =AM19-AK19 -> 10475277
A20: 累計減損－房屋及建築 | B20: -602717.11 | R20: =SUM(C20:Q20) -> 0 | AJ20: =SUM(S20:AI20) -> 0 | AK20: =B20+R20-AJ20 -> -602717.11 | AM20: -602717.11 | AN20: =AM20-AK20 -> 0
A21: 機械及設備 | B21: 3.662181e+09 | D21: 16294006 | K21: 309562303 | M21: =M22 -> 49238 | R21: =SUM(C21:Q21) -> 325905547 | S21: 150597234 | W21: 11283862 | AE21: 267494 | AG21: 90718 | AJ21: =SUM(S21:AI21) -> 1.6223931e+08 | AK21: =B21+R21-AJ21 -> 3.8258472e+09 | AM21: 3.343351e+09 | AN21: =AM21-AK21 -> -4.8249626e+08
A22: 機械及設備 | B22: 5.5481653e+09 | D22: 16294006 | K22: 309562303 | M22: 49238 | R22: =SUM(C22:Q22) -> 325905547 | W22: 66661381 | AE22: 267494 | AG22: 95836 | AJ22: =SUM(S22:AI22) -> 67024711 | AK22: =B22+R22-AJ22 -> 5.8070461e+09 | AM22: 5.1314305e+09 | AN22: =AM22-AK22 -> -6.7561563e+08
A23: 重估增值－機械及設備 | B23: 13983070 | R23: =SUM(C23:Q23) -> 0 | W23: 234479.54 | AJ23: =SUM(S23:AI23) -> 234479.54 | AK23: =B23+R23-AJ23 -> 13748590 | AM23: 13983070 | AN23: =AM23-AK23 -> 234479.54
A24: 累計折舊－機械及設備 | B24: -1.8926702e+09 | R24: =SUM(C24:Q24) -> 0 | S24: 150597234 | W24: -55611998 | AG24: -5118 | AJ24: =SUM(S24:AI24) -> 94980118 | AK24: =B24+R24-AJ24 -> -1.9876503e+09 | AM24: -1.7947654e+09 | AN24: =AM24-AK24 -> 1.9288489e+08
A25: 累計減損－機械及設備 | B25: -7297192.6 | R25: =SUM(C25:Q25) -> 0 | AJ25: =SUM(S25:AI25) -> 0 | AK25: =B25+R25-AJ25 -> -7297192.6 | AM25: -7297192.6 | AN25: =AM25-AK25 -> 0
A26: 交通及運輸設備 | B26: 15111969 | K26: 1060762 | R26: =SUM(C26:Q26) -> 1060762 | S26: 2923393 | W26: 42107 | AJ26: =SUM(S26:AI26) -> 2965500 | AK26: =B26+R26-AJ26 -> 13207231 | AM26: 16309073 | AN26: =AM26-AK26 -> 3101842
A27: 交通及運輸設備 | B27: 44831038 | K27: 1060762 | R27: =SUM(C27:Q27) -> 1060762 | W27: 1496547 | AJ27: =SUM(S27:AI27) -> 1496547 | AK27: =B27+R27-AJ27 -> 44395253 | AM27: 43554429 | AN27: =AM27-AK27 -> -840824
A28: 累計折舊－交通及運輸設備 | B28: -29719069 | R28: =SUM(C28:Q28) -> 0 | S28: 2923393 | W28: -1454440 | AJ28: =SUM(S28:AI28) -> 1468953 | AK28: =B28+R28-AJ28 -> -31188022 | AM28: -27245356 | AN28: =AM28-AK28 -> 3942666
A29: 什項設備 | B29: 11017967 | K29: 144476 | M29: 267494 | R29: =SUM(C29:Q29) -> 411970 | S29: 1637657 | W29: 12818 | AE29: =AE30 -> 49238 | AJ29: =SUM(S29:AI29) -> 1699713 | AK29: =B29+R29-AJ29 -> 9730224 | AM29: 11908512 | AN29: =AM29-AK29 -> 2178288
A30: 什項設備 | B30: 21752933 | K30: 144476 | M30: 267494 | R30: =SUM(C30:Q30) -> 411970 | W30: 200857 | AE30: 49238 | AJ30: =SUM(S30:AI30) -> 250095 | AK30: =B30+R30-AJ30 -> 21914808 | AM30: 21528572 | AN30: =AM30-AK30 -> -386236
A31: 累計折舊－什項設備 | B31: -10734966 | R31: =SUM(C31:Q31) -> 0 | S31: 1637657 | W31: -188039 | AJ31: =SUM(S31:AI31) -> 1449618 | AK31: =B31+R31-AJ31 -> -12184584 | AM31: -9620060 | AN31: =AM31-AK31 -> 2564524
A32: 購建中固定資產 | B32: =B33 -> 252468727 | C32: =C33 -> 369954888 | N32: 611100 | R32: =SUM(C32:Q32) -> 370565988 | AC32: 315599797 | AJ32: =SUM(S32:AI32) -> 315599797 | AK32: =B32+R32-AJ32 -> 307434918 | AN32: =AM32-AK32 -> -307434918
A33: 未完工程 | B33: =B34+B41 -> 252468727 | C33: =C34+C41 -> 369954888 | N33: 611100 | R33: =SUM(C33:Q33) -> 370565988 | AC33: 315599797 | AJ33: =SUM(S33:AI33) -> 315599797 | AK33: =B33+R33-AJ33 -> 307434918 | AM33: 236791463 | AN33: =AM33-AK33 -> -70643455
A34: 一般建築及設備計畫 | B34: 45987583 | C34: =C35+C36+C37+C38+C39+C40 -> 63523380 | N34: =N35+N36+N37+N38+N39+N40 -> 611100 | R34: =SUM(C34:Q34) -> 64134480 | AC34: =AC35+AC36+AC37+AC38+AC39+AC40 -> 64721770 | AJ34: =SUM(S34:AI34) -> 64721770 | AK34: =B34+R34-AJ34 -> 45400293 | AN34: =AM34-AK34 -> -45400293
A35: 土地 | B35: 0 | C35: 3059517 | R35: =SUM(C35:Q35) -> 3059517 | AC35: 3059517 | AJ35: =SUM(S35:AI35) -> 3059517 | AK35: =B35+R35-AJ35 -> 0 | AN35: =AM35-AK35 -> 0
A36: 土地改良物 | B36: 0 | C36: 0 | R36: =SUM(C36:Q36) -> 0 | AC36: 0 | AJ36: =SUM(S36:AI36) -> 0 | AK36: =B36+R36-AJ36 -> 0 | AN36: =AM36-AK36 -> 0
A37: 房屋及建築 | B37: 1772739 | C37: 0 | R37: =SUM(C37:Q37) -> 0 | AC37: 1772739 | AJ37: =SUM(S37:AI37) -> 1772739 | AK37: =B37+R37-AJ37 -> 0 | AN37: =AM37-AK37 -> 0
A38: 機械及設備 | B38: 44214844 | C38: 58822857 | N38: 611100 | R38: =SUM(C38:Q38) -> 59433957 | AC38: 58684276 | AJ38: =SUM(S38:AI38) -> 58684276 | AK38: =B38+R38-AJ38 -> 44964525 | AN38: =AM38-AK38 -> -44964525
A39: 交通及運輸設備 | B39: 0 | C39: 1060762 | R39: =SUM(C39:Q39) -> 1060762 | AC39: 1060762 | AJ39: =SUM(S39:AI39) -> 1060762 | AK39: =B39+R39-AJ39 -> 0 | AN39: =AM39-AK39 -> 0
A40: 什項設備 | B40: 0 | C40: 580244 | R40: =SUM(C40:Q40) -> 580244 | AC40: 144476 | AJ40: =SUM(S40:AI40) -> 144476 | AK40: =B40+R40-AJ40 -> 435768 | AN40: =AM40-AK40 -> -435768
...

Sheet (十三)原水權益明細表32
A1: (十三)
A2: 台灣自來水股份有限公司第 10 區管理處
A3: 原 水 權 益 明 細 表
A4: 中華民國 106 年度
K5: 單位：新臺幣元
A6: 計劃 名稱 | B6: 摘要 | C6: 入帳日期 | D6: 原始總額 | E6: 攤銷 年數 | F6: 105.12.31 前已攤金額 | G6: 已攤年限 | H6: 105.12.31 帳列餘額 | I6: 106年度 增加(減少)金額 | J6: 106年度 攤銷金額 | K6: 106.12.31 帳列餘額 | L6: 備註
A9: 本年度無發生事項。
B41: 合計

Sheet (十四)其他遞延資產明細表33
A1: (十四)
A2: 台灣自來水股份有限公司第 10 區管理處
A3: 其 他 遞 延 資 產 明 細 表
A4: 中華民國 106 年度
K5: 單位：新臺幣元
A6: 計劃 名稱 | B6: 摘要 | C6: 入帳日期 | D6: 原始總額 | E6: 攤銷 年數 | F6: 105.12.31前已攤金額 | G6: 已攤年限 | H6: 105.12.31帳列餘額 | I6: 106年度增加(減少)金額 | J6: 106年度攤銷金額 | K6: 106.12.31帳列餘額 | L6: 106.12.31轉列流動資產金額 | M6: 106.12.31轉列預付租金(非流動)餘額 | N6: 備註
A7: 用電契約容量變更 | B7: 辨公大樓用電契約容量由５０ＫＷ變更為１２０ＫＷ。 | C7: 1010622 | D7: 146600 | E7: 5 | F7: 138510 | G7: 4.5 | H7: 8090 | I7: 0 | J7: 8090 | K7: 0 | L7: 0 | M7: 0
A8: 預付租金（非流動） | B8: 95年預付水母系統~中途加藥室用地租金10年48,600元(10年，第10年) | C8: 950123 | D8: 48600 | E8: 10 | F8: 48600 | G8: 10 | H8: 0 | I8: 0 | J8: 0 | K8: 0 | L8: 0 | M8: 0
A9: 預付租金（非流動） | B9: 96年預付安朔淨水場土地租金67,667元(10年，第9年) | C9: 960917 | D9: 67667 | E9: 10 | F9: 60155 | G9: 9 | H9: 7512 | I9: 0 | J9: 7512 | K9: 0 | L9: 0 | M9: 0
A10: 預付租金（非流動） | B10: 96年預付城山配水池用地租金36,368元(9年，第9年) | C10: 961108 | D10: 36368 | E10: 9 | F10: 36368 | G10: 9 | H10: 0 | I10: 0 | J10: 0 | K10: 0 | L10: 0 | M10: 0
A11: 預付租金（非流動） | B11: 94年預付大鳥加藥站用地租金42,240元(20年，第11年) | C11: 981225 | D11: 42240 | E11: 20 | F11: 23232 | G11: 11 | H11: 19008 | I11: 0 | J11: 2112 | K11: 16896 | L11: 2112 | M11: 14784
A12: 預付租金（非流動） | B12: 102年預付成功取水口水權使用償金1184元(5年，第3年) | C12: 1020329 | D12: 1184 | E12: 5 | F12: 960 | G12: 3.5 | H12: 224 | I12: 0 | J12: 192 | K12: 32 | L12: 32 | M12: 0
A13: 預付租金（非流動） | B13: 99年預付成富家溪河川公地水井設備租金26,400元(7年，第7年) | C13: 990607 | D13: 26400 | E13: 7 | F13: 26400 | G13: 7 | H13: 0 | I13: 0 | J13: 0 | K13: 0 | L13: 0 | M13: 0
A14: 預付租金（非流動） | B14: 101年預付太麻里鄉金星段867地號北里加壓站土地租金4,546元(5年，第5年) | C14: 1011222 | D14: 4546 | E14: 5 | F14: 4546 | G14: 5 | H14: 0 | I14: 0 | J14: 0 | K14: 0 | L14: 0 | M14: 0
A15: 預付租金（非流動） | B15: 102年預付大武溪大武鄉加羅板段83地號旁河川公地臨時性設施65688元(4年，第3年) | C15: 1020603 | D15: 65688 | E15: 4 | F15: 58846 | G15: 3 | H15: 6842 | I15: 0 | J15: 6842 | K15: 0 | L15: 0 | M15: 0
A16: 預付租金（非流動） | B16: 102年預付卑南鄉利嘉溪東興堤防河川公地臨時性設施30,800元(4年，第3年) | C16: 1020719 | D16: 30800 | E16: 4 | F16: 26308 | G16: 3 | H16: 4492 | I16: 0 | J16: 4492 | K16: 0 | L16: 0 | M16: 0
A17: 預付租金（非流動） | B17: 102年預付黑森林深井及配水用地(台東縣政府代管保安林編號2519)17820元(3年，第3年） | C17: 1020723 | D17: 17820 | E17: 3 | F17: 17820 | G17: 3 | H17: 0 | I17: 0 | J17: 0 | K17: 0 | L17: 0 | M17: 0
A18: 預付租金（非流動） | B18: 103年梅園段878地號(初鹿淨水場)160,000元(10年，第2年) | C18: 1030829 | D18: 160000 | E18: 10 | F18: 37333 | G18: 2 | H18: 122667 | I18: 0 | J18: 16000 | K18: 106667 | L18: 16000 | M18: 90667
A19: 預付租金（非流動） | B19: 104年都哇拔段80地號$5,250(5年，第2年) | C19: 1031226 | D19: 5250 | E19: 5 | F19: 2100 | G19: 2 | H19: 3150 | I19: 0 | J19: 1050 | K19: 2100 | L19: 1050 | M19: 1050
A20: 預付租金（非流動） | B20: 104年都哇拔段79地號$37,655(5年，第2年) | C20: 1031226 | D20: 37655 | E20: 5 | F20: 15062 | G20: 2 | H20: 22593 | I20: 0 | J20: 7531 | K20: 15062 | L20: 7531 | M20: 7531
A21: 預付租金（非流動） | B21: 105年台東系統-黑森林深井及配水池用地三年租金(3年，第1年) | C21: 1050627 | D21: 20790 | E21: 3 | F21: 6924 | G21: 0.5 | H21: 17903 | I21: 0 | J21: 6924 | K21: 10979 | L21: 6924 | M21: 4055
A22: 預付租金（非流動） | B22: 105年洪許玉珠初鹿抽水站煙草間段184地號5年土地租金(5年，第1年) | C22: 1050830 | D22: 41300 | E22: 5 | F22: 7572 | G22: 1 | H22: 33728 | I22: 0 | J22: 8256 | K22: 25472 | L22: 8256 | M22: 17216
A23: 預付租金（非流動） | B23: 水母中途加藥室用地溫敦雄和解金(新竹湖段415地號) | C23: 1051212 | D23: 45300 | E23: 2 | F23: 15100 | G23: 1 | H23: 30200 | I23: 0 | J23: 15096 | K23: 15104 | L23: 15104 | M23: 0
A24: 預付租金（非流動） | B24: 付承租安朔淨水場106.9.1~111.8.31共5年租金(阮豐娘) | C24: 1060830 | D24: 38500 | E24: 5 | F24: 0 | G24: 0 | H24: 0 | I24: 38500 | J24: 2567 | K24: 35933 | L24: 7692 | M24: 28241
B25: 合計 | D25: 836708 | F25: 525836 | H25: 276409 | I25: 38500 | J25: 86664 | K25: 228245 | L25: 64701 | M25: 163544

Sheet (十五)電腦軟體明細表34
A1: (十五)
A2: 台灣自來水股份有限公司第 10 區管理處
A3: 電 腦 軟 體 明 細 表
A4: 中華民國 106 年度
J5: 單位：新臺幣元
A6: 計劃 名稱 | B6: 摘要 | C6: 入帳 日期 | D6: 原始 總額 | E6: 攤銷 年數 | F6: 105.12.31 前已攤金額 | G6: 已攤年限 | H6: 105.12.31 帳列餘額 | I6: 106年度 增加(減少)金額 | J6: 106年度 攤銷金額 | K6: 106.12.31 帳列餘額 | L6: 備註
A7: 電腦軟體委託設計費參加政府服務品質獎網頁改版 | C7: 1010725 | D7: 93333 | E7: 5 | F7: 82462 | G7: 4年 5月 | H7: 10871 | I7: 0 | J7: 10865 | K7: 6
A8: 電腦軟體Acronis vmProtect備份軟體 | C8: 1020523 | D8: 123646 | E8: 5 | F8: 88580 | G8: 3年 7月 | H8: 35066 | I8: 0 | J8: 24720 | K8: 10346
A9: 電腦軟體 行動地理資訊系統PC端軟體升級暨圖資更新 | C9: 1041224 | D9: 27619 | E9: 5 | F9: 5520 | G9: 1年 | H9: 22099 | I9: 0 | J9: 5520 | K9: 16579
A10: 電腦軟體 十區監控整合及介接總處系統採購 | C10: 1060301 | D10: 648255 | E10: 5 | F10: 0 | G10: 0 | H10: 0 | I10: 0 | J10: 108040 | K10: 540215
A11: 電腦軟體委託設計費十區監控整合及介接總處系統採購 | C11: 1060301 | D11: 2752564 | E11: 5 | F11: 0 | G11: 0 | H11: 0 | I11: 0 | J11: 458760 | K11: 2293804
A12: 電腦軟體Vmware Vsphere 6 standard for 1 processor | C12: 1061227 | D12: 406310 | E12: 5 | F12: 0 | G12: 0 | H12: 0 | I12: 0 | J12: 0 | K12: 406310
B26: 合計 | D26: =SUM(D7:D25) -> 4051727 | E26: =SUM(E7:E25) -> 30 | F26: =SUM(F7:F25) -> 176562 | G26: =SUM(G7:G25) -> 0 | H26: =SUM(H7:H25) -> 68036 | I26: =SUM(I7:I25) -> 0 | J26: =SUM(J7:J25) -> 607905 | K26: =SUM(K7:K25) -> 3267260

Sheet (十六)應收催收備抵呆帳提列表35
A1: 台灣自來水股份有限公司第 10 區管理處
A2: 應收及催收款項-備抵呆帳提列情形表
A3: 中華民國 106 年 12 月 31 日
J4: 單位：新臺幣元
A5: 帳齡分析 | B5: 12/31帳列數 | C5: 1.政府機關或公（有）營事業機關賒欠或保證之款項 | D5: 前項各款項內容說明 | E5: （C）＝（A）－（B） | F5: 估計壞帳率 | G5: 備抵呆帳應提列金額 | H5: 備抵呆帳帳列金額 | I5: 差額 | J5: 備註（未提列請敘明原因）
C6: 2.其他保證日後可如期收回之款項
B7: （A） | C7: （B）＝1+2 | D7: － | F7: （D） | G7: （E）＝（C）＊（D） | H7: （F） | I7: （G）=（E）－（F）
A8: 應收帳款
A9: 未過期者 | B9: 2200084 | E9: =B9-C9 -> 2200084 | F9: 0.008 | G9: 17601 | H9: 17636 | I9: =G9-H9 -> -35
A10: 過期3個月以下 | B10: 76514 | E10: =B10-C10 -> 76514 | F10: 0.009 | G10: 689 | H10: 1406 | I10: =G10-H10 -> -717
A11: 過期3～6個月以上 | B11: 42102 | E11: =B11-C11 -> 42102 | F11: 0.012 | G11: 505 | H11: 613 | I11: =G11-H11 -> -108
A12: 小計 | B12: =B9+B10+B11 -> 2318700 | E12: =E9+E10+E11 -> 2318700 | G12: =G9+G10+G11 -> 18795 | H12: 17936 | I12: =I9+I10+I11 -> -860
A13: 應收收益 ＊此科目請逐案說明
E14: =B14-C14 -> 0 | G14: =E14*F14 -> 0 | I14: =G14-H14 -> 0
E15: =B15-C15 -> 0 | G15: =E15*F15 -> 0 | I15: =G15-H15 -> 0
A16: 小計 | B16: =B14+B15 -> 0 | C16: =C14+C15 -> 0 | E16: =SUM(E14:E15) -> 0 | G16: =G14+G15 -> 0 | H16: =H14+H15 -> 0 | I16: =I14+I15 -> 0
A17: 應收票據
A18: 未過期者 | E18: =B18-C18 -> 0 | G18: =E18*F18 -> 0 | I18: =G18-H18 -> 0
A19: 過期3個月以下 | E19: =B19-C19 -> 0 | G19: =E19*F19 -> 0 | I19: =G19-H19 -> 0
A20: 過期3～6個月以上 | E20: =B20-C20 -> 0 | G20: =E20*F20 -> 0 | I20: =G20-H20 -> 0
A21: 小計 | B21: =SUM(B16:B20) -> 0 | F21: 0.012 | G21: =INT(B21*F21) -> 0 | H21: =G21 -> 0
A22: 小計 | B22: =B18+B19+B20 -> 0 | C22: =C18+C19+C20 -> 0 | E22: =SUM(E18:E20) -> 0 | G22: =G18+G19+G20 -> 0 | H22: =H18+H19+H20 -> 0 | I22: =I18+I19+I20 -> 0
A23: 其他應收款 ＊此科目請逐案說明
C24: 0 | E24: =B24-C24 -> 0 | G24: =E24*F24 -> 0 | I24: =G24-H24 -> 0
E25: =B25-C25 -> 0 | G25: =E25*F25 -> 0
A26: 小計 | B26: =SUM(B24:B25) -> 0 | C26: =SUM(C24:C25) -> 0 | E26: =SUM(E24:E25) -> 0 | G26: =G24+G25 -> 0 | H26: =H24+H25 -> 0 | I26: =I24+I25 -> 0
A27: 催收帳款 ＊催收款項（非水費部分）請逐案說明
A28: 1.101年度以前催收款項 | B28: 0 | E28: =B28-C28 -> 0 | F28: 1 | G28: 0 | H28: 0 | I28: =G28-H28 -> 0
A29: 2.過期6個月～1年（水費） | B29: 26508 | E29: =B29-C29 -> 26508 | F29: 0.015 | G29: 398 | H29: 775 | I29: =G29-H29 -> -377
A30: 3.過期1年以上 （水費） | B30: 220453 | E30: =B30-C30 -> 220453 | F30: 0.02 | G30: 4409 | H30: 2602 | I30: =G30-H30 -> 1807
A31: 4.催收款項(非水費)：
A32: （1）催收款項 -應收其他 | B32: 150000 | D32: 國楊塑膠股份有限公司違反採購法追繳押標金55萬元轉列催收款 | E32: 150000 | F32: 1 | G32: 150000 | H32: 550000 | I32: =G32-H32 -> -400000 | J32: 98已解散，本年度收回40萬元。
A33: （2）催收款項 -應收其他 | B33: 550000 | D33: 啟信塑膠企業有限公司違反採購法追繳押標金55萬元轉列催收款 | E33: =B33-C33 -> 550000 | F33: 1 | G33: 550000 | H33: 11000 | I33: =G33-H33 -> 539000 | J33: 目前尚在訴追中
A34: 小計 | B34: =B28+B29+B30+B31+B32+B33 -> 946961 | E34: =E28+E29+E30+E32+E33 -> 946961 | G34: =G28+G29+G30+G32+G33 -> 704807 | H34: 564630 | I34: =I28+I29+I30+I32+I33 -> 140430
A35: 合 計 | B35: =B12+B16+B22+B26+B34 -> 3265661 | C35: =C12+C16+C22+C26+C34 -> 0 | D35: =D12+D16+D22+D26+D34 -> 0 | E35: =E12+E16+E22+E26+E34 -> 3265661 | G35: =G12+G16+G22+G26+G34 -> 723602 | H35: =H12+H16+H22+H26+H34 -> 582566 | I35: =I12+I16+I22+I26+I34 -> 139570

Sheet (十七)員工人數彙計表36-決算版
A1: (十七)
A2: 台灣自來水股份有限公司第 10 區管理處
A3: 員工人數彙計表
A4: 中 華 民 國 106 年 度
A5: 單位：人
A6: 項目 | C6: 決算數 | E6: 預算數 | G6: 比較增減 | I6: 備註
A7: 名稱 | B7: 編號 | C7: 國內部分 | D7: 國外部分 | E7: 國內部分 | F7: 國外部分 | G7: 國內部分 | H7: 國外部分
A9: 營業總支出部分 | B9: 972 | C9: 133 | E9: 144 | G9: =C9-E9 -> -11
A10: 生產部分 | B10: 9721 | C10: 84 | E10: 98 | G10: =C10-E10 -> -14
A11: 原水費用 | C11: 25 | E11: 18 | G11: =C11-E11 -> 7
A12: 正式職員 | B12: 97211 | C12: 5 | E12: 3 | G12: =C12-E12 -> 2
A13: 臨時職員 | B13: 97212
A14: 正式工員 | B14: 97213 | C14: 20 | E14: 15 | G14: =C14-E14 -> 5
A15: 淨水費用 | C15: 18 | E15: 24 | G15: =C15-E15 -> -6
A16: 正式職員 | B16: 97211 | C16: 5 | E16: 6 | G16: =C16-E16 -> -1
A17: 正式工員 | B17: 97213 | C17: 13 | E17: 18 | G17: =C17-E17 -> -5
A18: 供水費用 | C18: 41 | E18: 56 | G18: =C18-E18 -> -15
A19: 正式職員 | B19: 97211 | C19: 10 | E19: 11 | G19: =C19-E19 -> -1
A20: 臨時職員 | B20: 97212
A21: 正式工員 | B21: 97213 | C21: 31 | E21: 45 | G21: =C21-E21 -> -14
A22: 業務部份 | B22: 9722 | C22: 30 | E22: 30 | G22: =C22-E22 -> 0
A23: 用戶新設給水裝置成本 | C23: 3 | E23: 4 | G23: =C23-E23 -> -1
A24: 正式職員 | B24: 97221 | C24: 1 | E24: 1 | G24: =C24-E24 -> 0
A25: 正式工員 | B25: 97223 | C25: 2 | E25: 3 | G25: =C25-E25 -> -1
A26: 觀光遊樂費用
A27: 正式職員 | B27: 97221
A28: 臨時職員 | B28: 97222
A29: 臨時工員 | B29: 97224
A30: 業務費用 | C30: 27 | E30: 26 | G30: =C30-E30 -> 1
A31: 正式職員 | B31: 97221 | C31: 12 | E31: 12 | G31: =C31-E31 -> 0
A32: 臨時職員 | B32: 97222 | C32: 0 | E32: 0
A33: 正式工員 | B33: 97223 | C33: 15 | E33: 14 | G33: =C33-E33 -> 1
A34: 管理部分 | B34: 9723 | C34: 19 | E34: 16 | G34: =C34-E34 -> 3
A35: 管理費用 | C35: 19 | E35: 16 | G35: =C35-E35 -> 3
A36: 正式職員 | B36: 97231 | C36: 10 | E36: 10 | G36: =C36-E36 -> 0
A37: 臨時職員 | B37: 97232 | G37: =C37-E37 -> 0
A38: 正式工員 | B38: 97233 | C38: 9 | E38: 6 | G38: =C38-E38 -> 3
A39: 研究發展及員工訓練部分 | B39: 9724
A40: 員工訓練費用
A41: 正式職員 | B41: 97241
...

Sheet (十八)繳納各項稅捐與規費明細表37
A1: (十八)
A2: 台灣自來水股份有限公司第 10 區管理處
A3: 繳納各項稅捐與規費明細表
A4: 中 華 民 國 106 年 度
J5: 單位：新臺幣元
A6: 項 目 | C6: 決算數 | G6: 預算數
A7: 名稱 | B7: 編號 | C7: 營業總支 出部分 | D7: 資本支出部分 | E7: 代徵 部分 | F7: 合計 | G7: 營業總支 出部分 | H7: 資本支出部分 | I7: 代徵 部分 | J7: 合計
A8: 所得稅 | F8: 0
A9: ××× | F9: 0
A10: ××× | F10: 0
A11: 土地稅 | B11: 62 | C11: =C12 -> 304866 | F11: =C11+D11+E11 -> 304866 | G11: =G12 -> 411000 | J11: =G11+H11+I11 -> 411000
A12: 一般土地地價稅 | B12: 6201 | C12: 304866 | F12: =C12+D12+E12 -> 304866 | G12: 411000 | J12: =G12+H12+I12 -> 411000
A13: 契稅 | F13: =C13+D13+E13 -> 0 | J13: =G13+H13+I13 -> 0
A14: ××× | F14: =C14+D14+E14 -> 0 | J14: =G14+H14+I14 -> 0
A15: ××× | F15: =C15+D15+E15 -> 0 | J15: =G15+H15+I15 -> 0
A16: 房屋稅 | B16: 64 | C16: =C17 -> 636026 | F16: =C16+D16+E16 -> 636026 | G16: =G17 -> 666193 | J16: =G16+H16+I16 -> 666193
A17: 一般房屋稅 | B17: 6401 | C17: 636026 | F17: =C17+D17+E17 -> 636026 | G17: 666193 | J17: =G17+H17+I17 -> 666193
A18: 消費與行為稅 | B18: 65 | C18: =C19+C20 -> 363744 | D18: =D19+D20 -> 246682 | F18: =C18+D18+E18 -> 610426 | G18: =G19+G20 -> 482650 | H18: =H19+H20 -> 246682 | J18: =G18+H18+I18 -> 729332
A19: 印花稅 | B19: 6506 | C19: 66728 | D19: 246682 | F19: =C19+D19+E19 -> 313410 | G19: 69000 | H19: 246682 | J19: =G19+H19+I19 -> 315682
A20: 使用牌照稅 | B20: 6507 | C20: 297016 | F20: =C20+D20+E20 -> 297016 | G20: 413650 | J20: =G20+H20+I20 -> 413650
A21: 規費 | B21: 67 | C21: =C22+C23+C24 -> 877610 | D21: =D22+D23+D24 -> 358135 | F21: =C21+D21+E21 -> 1235745 | G21: =G22+G23+G24 -> 704938 | H21: =H22+H23+H24 -> 358135 | J21: =G21+H21+I21 -> 1063073
A22: 行政規費 | B22: 6701 | C22: 453289 | F22: =C22+D22+E22 -> 453289 | G22: 284988 | J22: =G22+H22+I22 -> 284988
A23: 汽車燃料使用費 | B23: 6702 | C23: 424321 | F23: =C23+D23+E23 -> 424321 | G23: 419950 | J23: =G23+H23+I23 -> 419950
A24: 空氣污染防制費 | D24: 358135 | F24: =C24+D24+E24 -> 358135 | H24: 358135 | J24: =G24+H24+I24 -> 358135
A36: 合計 | C36: =C11+C16+C18+C21 -> 2182246 | D36: =D11+D16+D18+D21 -> 604817 | E36: =E11+E16+E18+E21 -> 0 | F36: =F11+F16+F18+F21 -> 2787063 | G36: =G11+G16+G18+G21 -> 2264781 | H36: =H11+H16+H18+H21 -> 604817 | I36: =I11+I16+I18+I21 -> 0 | J36: =J11+J16+J18+J21 -> 2869598
A37: 說明：本表合計金額如與「各項費用彙計表」中「稅捐與規費」金額不符，應於表下按各項稅費
A38: 實際歸屬項目附註說明。

Sheet (十九)各項費用彙計表-預算比 38-40
A1: （十九）
A2: 台灣自來水股份有限公司第 10 區管理處
A3: 各項費用彙計表-與本年度預算數比
A4: 中 華 民 國 106 年 度
G5: 單位：新臺幣元
A6: _x000B_科目名稱 | C6: 本年度 決算數 | D6: 本年度 預算數 | E6: 本年度決算數與預算數比較增減
E7: 金額 | F7: ％ | G7: 增減原因說明
A8: 內部轉撥費用 | B8: A | D8: 0 | E8: =C8-D8 -> 0 | F8: =E8/D8*100 -> #DIV/0!
A9: 內部轉撥費用 | B9: AA | D9: 0 | E9: =C9-D9 -> 0 | F9: =E9/D9*100 -> #DIV/0!
A10: 用人費用 | B10: 1 | C10: 135459244 | D10: 151954137 | E10: =C10-D10 -> -16494893 | F10: =E10/D10*100 -> -10.855179 | G10: 主要係離退人員尚未補實及新進人員敘薪較低，致職員薪金、工員工資、不休假加班費、考核獎金等減少。
A11: 正式員額薪資 | B11: 11 | C11: 96960087 | D11: 107919610 | E11: =C11-D11 -> -10959523 | F11: =E11/D11*100 -> -10.155266 | G11: 主要係離退人員尚未補實及新進人員敘薪較低所致。其中職員薪金（1103）減少4,530千元，工員工資（1104）減少5,621千元。
A12: 超時工作報酬 | B12: 13 | C12: 3363469 | D12: 4892453 | E12: =C12-D12 -> -1528984 | F12: =E12/D12*100 -> -31.251889 | G12: 1.主係不休假加班費（1302）減少1,456千元， 主因 離退人員尚未補實及新進人員敘薪較低，造成差異。 2.超時加班費（1301）減少74千元，除嚴控加班費支 出，主管及內勤人員加班，除緊急應變，一律以補休 為主外，本年度颱風災害減少，救災加班費減少。
A13: 津貼 | B13: 14 | C13: 1184820 | D13: 1229784 | E13: =C13-D13 -> -44964 | F13: =E13/D13*100 -> -3.6562518
A14: 獎金 | B14: 15 | C14: 15736242 | D14: 18036102 | E14: =C14-D14 -> -2299860 | F14: =E14/D14*100 -> -12.751425 | G14: 考核獎金（1502）減少2,319千元，主係離退人員尚未補實及新進人員敘薪較低所致。
A15: 退休及卹償金 | B15: 16 | C15: 5665285 | D15: 6225525 | E15: =C15-D15 -> -560240 | F15: =E15/D15*100 -> -8.9990804
A16: 福利費 | B16: 18 | C16: 12538339 | D16: 13637360 | E16: =C16-D16 -> -1099021 | F16: =E16/D16*100 -> -8.0588985 | G16: 1.分擔員工保險費（1801）減少875千元，主係離退人 員尚未補實及新進人員敘薪較低所致。 2.分擔退休人員及其配偶暨員工眷屬保險 費（1802） 減少95千元，主係離退 人員尚未補實及新進人員敘 薪較低所致。 3.其他福利費（1898）減少330千元，主係離退人員尚 未補實及新進人員敘薪較低，休假旅遊補助費減少。
A17: 提繳費 | B17: 19 | C17: 11002 | D17: 13303 | E17: =C17-D17 -> -2301 | F17: =E17/D17*100 -> -17.29685
A18: 服務費用 | B18: 2 | C18: 55825814 | D18: 64571085 | E18: =C18-D18 -> -8745271 | F18: =E18/D18*100 -> -13.543633
A19: 水電費 | B19: 21 | C19: 13010795 | D19: 16972427 | E19: =C19-D19 -> -3961632 | F19: =E19/D19*100 -> -23.341576 | G19: 動力費（2101）減少4,084千元，除因105年 4月1日起台電調降流動電費費率外，主係台東今年度雨量充足，使得地面水源豐沛，停抽部份市區深井，用電量隨之降低。
A20: 郵電費 | B20: 22 | C20: 4041544 | D20: 4701279 | E20: =C20-D20 -> -659735 | F20: =E20/D20*100 -> -14.033096
A21: 旅運費 | B21: 23 | C21: 4226714 | D21: 4189713 | E21: =C21-D21 -> 37001 | F21: =E21/D21*100 -> 0.88313925
A22: 印刷裝訂與廣告費 | B22: 24 | C22: 339080 | D22: 401871 | E22: =C22-D22 -> -62791 | F22: =E22/D22*100 -> -15.624666
A23: 修理保養與保固費 | B23: 25 | C23: 14411382 | D23: 20855620 | E23: =C23-D23 -> -6444238 | F23: =E23/D23*100 -> -30.899288 | G23: 主係機械及設備修護費（2505）減少 6,378 千元： 1.水庫及攔河堰維護費減少2,496 千元，主係水庫及攔 河堰維護費(25051305)減少2,496千元，綠島酬勤水 庫蓄水範圍整治工程預算 2,560 千元尚未完成發包。 ，造成差異。 2.各項機械設備修護費減少1,096千元，主係嚴控預算 支用，且本期設備維修案件較預期少所致。 3.廢水處理設備修護費減少667千元，主係本年度故障 減少，僅執行133千元所致。 4.抽水機修護費減少440千元，主係本年度修理案件減 少所致， 5.監控設備修護費減少405千元，主係本期監控設備維 修案件較預期少所致。 6.用戶水量計汰換經費減少390千元，，主係本期水量 計汰換數較預算數減少所致。
A24: 保險費 | B24: 26 | C24: 430894 | D24: 595895 | E24: =C24-D24 -> -165001 | F24: =E24/D24*100 -> -27.68961
A25: 棧儲、包裝、代理及加工費 | B25: 27 | C25: 15929844 | D25: 14911609 | E25: =C25-D25 -> 1018235 | F25: =E25/D25*100 -> 6.8284717 | G25: 主係外包費（2709）增加928千元，原因如下： 1.新裝收入較預算數增加，成本亦隨之增加，其中新裝 工程委外增加1,427千元，路修費增加837千元。 2.廢水污泥委託清理費：減少287千元，主係因廢水污 泥清理本期尚未執行完畢。 3.環境美化及清潔費：減少174千元，主係發包契約節 餘及委外雇工整理人員減少等所致。 4.刮洗、補砂委外經費：減少 126千元。本年度委外雇 用整理人員較預期減少。
A26: 專業服務費 | B26: 28 | C26: 3304774 | D26: 1811671 | E26: =C26-D26 -> 1493103 | F26: =E26/D26*100 -> 82.415792 | G26: 1.工程及管理諮詢服務費（2804）增加309元，其中工 務處經費增加143千元，為森永淨水場及泰源500T配 水池新建工程等兩工程地質鑽探作業費併決算143千 元。水質處經費增加92千元，為付廢污水排放許可變 更申請款(更改利嘉淨水場水汙染防治許可證變更)45 千元及辦理ISO14001輔導及驗證費93千元。供水處 經費增加93千元，為利嘉溪伏流水地形測量作業費， 併決算93千元。 2.委託檢驗試驗費（2807）增加1,165千元，主係建物 安全設備檢查費（28072401）增加 841千元，主因 建築物公共安全檢查申報缺失補辦公室內裝修合格證 與改善整修工程670千元所致。另本年度新設成功淨 水場後續工程營運期間環境監測費用支用441千元， 造成差異。
A27: 公共關係費 | B27: 29 | C27: 130787 | D27: 131000 | E27: =C27-D27 -> -213 | F27: =E27/D27*100 -> -0.16259542
A28: 材料及用品費 | B28: 3 | C28: 11101107 | D28: 10354413 | E28: =C28-D28 -> 746694 | F28: =E28/D28*100 -> 7.21136
A29: 使用材料費 | B29: 31 | C29: 9761351 | D29: 8816299 | E29: =C29-D29 -> 945052 | F29: =E29/D29*100 -> 10.719373 | G29: 1.原料（3101）減少 451千元，本期無購入原水。 2.物料（3102）增加1,770千元，主係藥品及物料費增 加1,258千元，除次氯酸鈉單價上升外，因供水量增 加，本年度用藥量亦增加，造成差異。另物料評價損 益（31020904）增加464千元併決算辦理。 3.燃料（3103）減少 341千元，主係嚴控用油。
A30: 用品消耗 | B30: 32 | C30: 1339756 | D30: 1538114 | E30: =C30-D30 -> -198358 | F30: =E30/D30*100 -> -12.896183
A31: 租金與利息 | B31: 4 | C31: 671427 | D31: 594781 | E31: =C31-D31 -> 76646 | F31: =E31/D31*100 -> 12.886424
A32: 地租及水租 | B32: 41 | C32: 242662 | D32: 260781 | E32: =C32-D32 -> -18119 | F32: =E32/D32*100 -> -6.9479755
A33: 房租 | B33: 42 | C33: 48000 | D33: 0 | E33: =C33-D33 -> 48000 | F33: =E33/D33*100 -> #DIV/0! | G33: 主係為本處台東所於綠島租民宿供至綠島輪值同仁住宿。本件已奉准併決算在案。
A34: 機器租金 | B34: 43 | C34: 82967 | D34: 150000 | E34: =C34-D34 -> -67033 | F34: =E34/D34*100 -> -44.688667
A35: 交通及運輸設備租金 | B35: 44 | C35: 123032 | D35: 30000 | E35: =C35-D35 -> 93032 | F35: 100
A36: 什項設備租金 | B36: 45 | C36: 174766 | D36: 154000 | E36: =C36-D36 -> 20766 | F36: =E36/D36*100 -> 13.484416
A37: 折舊及攤銷 | B37: 5 | C37: 165649141 | D37: 160200454 | E37: =C37-D37 -> 5448687 | F37: =E37/D37*100 -> 3.4011683 | G37: 主係成功淨水場擴建工程於105年11月份入財產及其他工程增加入財產，造成預算估算偏底，產生差異。
A38: 土地改良物折舊 | B38: 51 | C38: 3328083 | D38: 3723482 | E38: =C38-D38 -> -395399 | F38: =E38/D38*100 -> -10.619066
A39: 房屋折舊 | B39: 52 | C39: 6120923 | D39: 5232091 | E39: =C39-D39 -> 888832 | F39: =E39/D39*100 -> 16.988084
A40: 機械及設備折舊 | B40: 53 | C40: 150597234 | D40: 144920673 | E40: =C40-D40 -> 5676561 | F40: =E40/D40*100 -> 3.9170126
...

Sheet (二十)各項費用彙計表-上年比41-42
A1: （二十）
A2: 台灣自來水股份有限公司第 10 區管理處
A3: 各項費用彙計表--與上年度審定決算數比
A4: 中 華 民 國 106 年 度
G5: 單位：新臺幣元
A6: _x000B_科目名稱 | C6: 本年度 決算數 | D6: 上年度 決算數 | E6: 本年度決算數與上年度決算數比較增減
E7: 金額 | F7: ％ | G7: 增減原因說明
A8: 內部轉撥費用 | B8: A | E8: =C8-D8 -> 0 | F8: =E8/D8*100 -> #DIV/0!
A9: 內部轉撥費用 | B9: AA | E9: =C9-D9 -> 0 | F9: =E9/D9*100 -> #DIV/0!
A10: 用人費用 | B10: 1 | C10: 135459244 | D10: 135268584 | E10: =C10-D10 -> 190660 | F10: =E10/D10*100 -> 0.14094921 | G10: 主要係離退人員尚未補實及新進人員敘薪較低，致職員薪金、工員工資、不休假加班費、考核獎金等減少。
A11: 正式員額薪資 | B11: 11 | C11: 96960087 | D11: 99073910 | E11: =C11-D11 -> -2113823 | F11: =E11/D11*100 -> -2.1335819
A12: 超時工作報酬 | B12: 13 | C12: 3363469 | D12: 4255676 | E12: =C12-D12 -> -892207 | F12: =E12/D12*100 -> -20.965106
A13: 津貼 | B13: 14 | C13: 1184820 | D13: 1172268 | E13: =C13-D13 -> 12552 | F13: =E13/D13*100 -> 1.0707449
A14: 獎金 | B14: 15 | C14: 15736242 | D14: 15757828 | E14: =C14-D14 -> -21586 | F14: =E14/D14*100 -> -0.13698588
A15: 退休及卹償金 | B15: 16 | C15: 5665285 | D15: 2742525 | E15: =C15-D15 -> 2922760 | F15: =E15/D15*100 -> 106.57186 | G15: 主係卹償金（1603）增加2,950千元，原因為本期支出太麻里所羅成瑞撫恤金2,950千元所致。
A16: 福利費 | B16: 18 | C16: 12538339 | D16: 12254485 | E16: =C16-D16 -> 283854 | F16: =E16/D16*100 -> 2.3163275
A17: 提繳費 | B17: 19 | C17: 11002 | D17: 11892 | E17: =C17-D17 -> -890 | F17: =E17/D17*100 -> -7.4840229
A18: 服務費用 | B18: 2 | C18: 55825814 | D18: 62515872 | E18: =C18-D18 -> -6690058 | F18: =E18/D18*100 -> -10.701375
A19: 水電費 | B19: 21 | C19: 13010795 | D19: 14013136 | E19: =C19-D19 -> -1002341 | F19: =E19/D19*100 -> -7.1528671 | G19: 主係動力費（2101）減少905千元，原因為上年度尼伯特颱風後，台東多場站維持在啟用狀態進行抽水，且今年暫停使用豐里淨水場改備用，以利嘉連結管線供應；另上年同期新成功淨水場試營運期間為臨時用電，電費較高，又因本年度二次電價優惠，綜上所述，使電費支出減少，造成差異。
A20: 郵電費 | B20: 22 | C20: 4041544 | D20: 4064451 | E20: =C20-D20 -> -22907 | F20: =E20/D20*100 -> -0.56359395
A21: 旅運費 | B21: 23 | C21: 4226714 | D21: 4169555 | E21: =C21-D21 -> 57159 | F21: =E21/D21*100 -> 1.3708657
A22: 印刷裝訂與廣告費 | B22: 24 | C22: 339080 | D22: 395056 | E22: =C22-D22 -> -55976 | F22: =E22/D22*100 -> -14.16913
A23: 修理保養與保固費 | B23: 25 | C23: 14411382 | D23: 19354439 | E23: =C23-D23 -> -4943057 | F23: =E23/D23*100 -> -25.539655 | G23: 主係機械及設備修護費（2505）減少5,366千元所致，分析如下︰ 1.用戶水量計汰換經費：減少2,811千 元，主 係本期水量計汰換數較上年度減少所。 2.構造物設備修護費：減少2,550千元，主係 上年度風災頻繁，各所取水口損壞情形嚴重 ，而本年度風災較少，致造成差異。
A24: 保險費 | B24: 26 | C24: 430894 | D24: 436921 | E24: =C24-D24 -> -6027 | F24: =E24/D24*100 -> -1.3794256
A25: 棧儲、包裝、代理及加工費 | B25: 27 | C25: 15929844 | D25: 16174541 | E25: =C25-D25 -> -244697 | F25: =E25/D25*100 -> -1.5128528 | G25: 主係因外包費（2709）減少289千元，原因為新裝委託路權單位路修費減少374千元，因本期新裝收入減少，致各項新裝成本均減少，其中路修費減少374千元，，造成差異。
